Workbook

Sheet TKB SÁNG
A3: THỨ | B3: Tiết | C3: Thời gian | D3: 6F | E3: 6A1 | F3: 6A2 | G3: 6A3 | H3: 6A4 | I3: 6A5 | J3: 6A6 | K3: 6A7 | L3: 6A8 | M3: 6A9 | N3: 6A10 | O3: 6A11 | P3: 6A12 | Q3: 6A13 | R3: 6A14 | S3: 6A15 | T3: 6P | U3: 7A1 | V3: 7A2 | W3: 7A3 | X3: 7A4 | Y3: 7A5 | Z3: 7A6 | AA3: 7A7 | AB3: 7A8 | AC3: 7A9 | AD3: 7A10 | AE3: 7A11 | AF3: 7A12 | AG3: 7A13 | AH3: 7A14 | AI3: 7P | AJ3: 9A1 | AK3: 9A2 | AL3: 9A3 | AM3: 9A4 | AN3: 9A5 | AO3: 9A6 | AP3: 9A7 | AQ3: 9A8 | AR3: 9A9 | AS3: 9A10 | AT3: 9A11 | AU3: 9A12 | AV3: 9P | AW3: 8P
A4: HAI | B4: 1 | C4: 7h30-8h15 | D4: CHÀO CỜ | E4: CHÀO CỜ | F4: CHÀO CỜ | G4: CHÀO CỜ | H4: CHÀO CỜ | I4: CHÀO CỜ | J4: CHÀO CỜ | K4: CHÀO CỜ | L4: CHÀO CỜ | M4: CHÀO CỜ | N4: CHÀO CỜ | O4: CHÀO CỜ | P4: CHÀO CỜ | Q4: CHÀO CỜ | R4: CHÀO CỜ | S4: CHÀO CỜ | T4: CHÀO CỜ | U4: GDTC | V4: HĐTN-HN | W4: HĐTN-HN | X4: HĐTN-HN | Y4: HĐTN-HN | Z4: HĐTN-HN | AA4: HĐTN-HN | AB4: HĐTN-HN | AC4: HĐTN-HN | AD4: TOÁN | AE4: KHTN-L | AF4: TIN HỌC | AG4: KHTN-S | AH4: GD ĐP | AI4: HĐTN-HN | AJ4: CHÀO CỜ | AK4: CHÀO CỜ | AL4: CHÀO CỜ | AM4: CHÀO CỜ | AN4: CHÀO CỜ | AO4: CHÀO CỜ | AP4: CHÀO CỜ | AQ4: CHÀO CỜ | AR4: CHÀO CỜ | AS4: CHÀO CỜ | AT4: CHÀO CỜ | AU4: CHÀO CỜ | AV4: CHÀO CỜ
D5: NTT Hà | E5: NP Thanh | F5: LT Hương | G5: NTH Quyên | H5: LTH Yến | I5: ĐH Lan | J5: NTT An | K5: ĐA Thảo | L5: TTT Hương | M5: BL Phương | N5: LT Loan | O5: PTV Anh | P5: PH Minh | Q5: NP Dung | R5: NH Vi | S5: NPH Anh | T5: NT Hảo | U5: DT Dung | V5: VB Hạnh | W5: TTN Anh | X5: NTT Thủy Đ | Y5: NTT Huyền | Z5: NT Vân | AA5: NK Linh | AB5: TX Điện | AC5: TTT Hiền | AD5: NM Kiên | AE5: PTM Ngân | AF5: LP Thảo | AG5: ĐĐ Hưng | AH5: TTM Hương | AI5: CK Đức | AJ5: NT Tâm | AK5: NTT Đông | AL5: TT Hương | AM5: PT Hương | AN5: NTP Lan B | AO5: NH Lê | AP5: PTL Anh | AQ5: TM Hằng | AR5: HT Minh | AS5: NT Hải | AT5: TT Hồng | AU5: ĐT Thủy | AV5: NTT Huyền P
B6: 2 | C6: 8h20-9h05 | D6: NT-HOẠ | E6: TIẾNG ANH | F6: TOÁN | G6: TIẾNG ANH | H6: NGỮ VĂN | I6: TOÁN | J6: NGỮ VĂN | K6: NGỮ VĂN | L6: KHTN | M6: NGỮ VĂN | N6: NGỮ VĂN | O6: NGỮ VĂN | P6: TOÁN | Q6: NGỮ VĂN | R6: GDTC | S6: NGỮ VĂN | T6: NGỮ VĂN | U6: TOÁN | V6: TOÁN | W6: NGỮ VĂN | X6: TIN HỌC | Y6: LSĐL-S | Z6: GDCD | AA6: TOÁN | AB6: TOÁN | AC6: TIẾNG ANH | AD6: TIẾNG ANH | AE6: GDTC | AF6: NT-NHẠC | AG6: KHTN-H | AH6: TIẾNG ANH | AI6: TIẾNG PHÁP | AJ6: TOÁN | AK6: KHTN-L | AL6: CÔNG NGHỆ | AM6: TIN HỌC | AN6: NGỮ VĂN | AO6: NGỮ VĂN | AP6: KHTN-H | AQ6: NT-HỌA | AR6: NGỮ VĂN | AS6: TIẾNG ANH | AT6: HĐTN-HN | AU6: NGỮ VĂN | AV6: GDTC
D7: LN Anh | E7: NPH Anh | F7: LT Hương | G7: NTH Quyên | H7: LTH Yến | I7: ĐH Lan | J7: NTT An | K7: ĐA Thảo | L7: PT Mai | M7: PTL Anh | N7: NTT Hà | O7: PTV Anh | P7: PH Minh | Q7: NP Dung | R7: NĐ Duy | S7: TTM Hương | T7: NT Hảo | U7: TTT Hương | V7: TVN Sơn | W7: TTN Anh | X7: LP Thảo | Y7: ĐT Năng | Z7: VB Hạnh | AA7: NK Linh | AB7: TX Điện | AC7: TTT Hiền | AD7: ĐTN Hà | AE7: TTT Hạnh | AF7: NT Lan | AG7: NS Tùng | AH7: NTH Mai | AI7: CK Đức | AJ7: NT Tâm | AK7: NTT Đông | AL7: NT Vân | AM7: PT Hương | AN7: NTP Lan B | AO7: NH Lê | AP7: NTT Huyền | AQ7: PTT Linh | AR7: HT Minh | AS7: NT Hải | AT7: TT Hồng | AU7: ĐT Thủy | AV7: DT Dung
B8: 3 | C8: 9h25-10h10 | D8: KHTN | E8: GDTC | F8: KHTN | G8: TOÁN | H8: TOÁN | I8: NT-HOẠ | J8: GDTC | K8: NGỮ VĂN | L8: TIẾNG ANH | M8: LSĐL-S | N8: KHTN | O8: TOÁN | P8: TOÁN | Q8: KHTN | R8: NGỮ VĂN | S8: LSĐL-S | T8: LSĐL-Đ | U8: TOÁN | V8: KHTN-L | W8: TIẾNG ANH | X8: NT-NHẠC | Y8: TIẾNG ANH | Z8: NGỮ VĂN | AA8: GD ĐP | AB8: KHTN-S | AC8: NGỮ VĂN | AD8: GDTC | AE8: HĐTN-HN | AF8: NGỮ VĂN | AG8: GDTC | AH8: NGỮ VĂN | AI8: TIẾNG PHÁP | AJ8: GD ĐP | AK8: LSĐL-S | AL8: TOÁN | AM8: KHTN-H | AN8: CÔNG NGHỆ | AO8: NGỮ VĂN | AP8: NGỮ VĂN | AQ8: TOÁN | AR8: GD ĐP | AS8: KHTN-H | AT8: KHTN-L | AU8: NT-HỌA | AV8: GD ĐP
D9: NS Tùng | E9: NĐ Duy | F9: TT Hồng | G9: NK Linh | H9: TVN Sơn | I9: LN Anh | J9: NT Thành | K9: ĐA Thảo | L9: NTH Quyên | M9: ĐT Năng | N9: LT Loan | O9: NM Kiên | P9: PH Minh | Q9: TT Hương | R9: NH Vi | S9: ĐTH Nga | T9: NTT Thủy Đ | U9: TTT Hương | V9: NTT Đông | W9: TTT Hiền | X9: NT Lan | Y9: BL Phương | Z9: ĐT Thủy | AA9: TTM Hương | AB9: ĐĐ Hưng | AC9: VB Hạnh | AD9: NTT Hương | AE9: HTM Hương | AF9: NTT An | AG9: DT Dung | AH9: LTH Yến | AI9: CK Đức | AJ9: NP Thanh | AK9: NT Hảo | AL9: NT Vân | AM9: NTT Huyền | AN9: TT Quyên | AO9: NH Lê | AP9: PTL Anh | AQ9: NT Tâm | AR9: HT Minh | AS9: PT Mai | AT9: PTM Ngân | AU9: PTT Linh | AV9: LTA Nguyệt
B10: 4 | C10: 10h15-11h00 | D10: LSĐL-S | E10: NGỮ VĂN | F10: NT-HOẠ | G10: TOÁN | H10: TOÁN | I10: GDTC | J10: TOÁN | K10: TOÁN | L10: NGỮ VĂN | M10: KHTN | N10: KHTN | O10: NT-HỌA | P10: GDTC | Q10: KHTN | R10: NGỮ VĂN | S10: TIẾNG ANH | T10: KHTN | U10: GD ĐP | V10: TIẾNG ANH | W10: TIẾNG ANH | X10: TIẾNG ANH | Y10: GDTC | Z10: NGỮ VĂN | AA10: GDTC | AB10: TIẾNG ANH | AC10: NGỮ VĂN | AD10: NGỮ VĂN | AE10: NGỮ VĂN | AF10: NGỮ VĂN | AG10: NGỮ VĂN | AH10: HĐTN-HN | AI10: KHTN-H | AJ10: KHTN-S | AK10: TOÁN | AL10: LSĐL-Đ | AM10: GDTC | AN10: KHTN-H | AO10: KHTN-L | AP10: NGỮ VĂN | AQ10: NGỮ VĂN | AR10: TOÁN | AS10: NGỮ VĂN | AT10: TOÁN | AU10: CÔNG NGHỆ | AV10: NGỮ VĂN
D11: ĐTH Nga | E11: NP Thanh | F11: LN Anh | G11: NK Linh | H11: TVN Sơn | I11: NĐ Duy | J11: TTT Hương | K11: PT Hương | L11: NT Hảo | M11: ĐĐ Hưng | N11: LT Loan | O11: PTT Linh | P11: NT Thành | Q11: TT Hương | R11: NH Vi | S11: NPH Anh | T11: TT Hồng | U11: TTM Hương | V11: BL Phương | W11: TTT Hiền | X11: NTH Mai | Y11: TTT Hạnh | Z11: ĐT Thủy | AA11: NTT Hương | AB11: HTM Hương | AC11: VB Hạnh | AD11: NTB Châu | AE11: LTH Yến | AF11: NTT An | AG11: NH Lê | AH11: NS Tùng | AI11: NTT Huyền | AJ11: PTN Trâm | AK11: LT Hương | AL11: NTT Thủy Đ | AM11: DT Dung | AN11: PT Mai | AO11: PTM Ngân | AP11: PTL Anh | AQ11: HT Minh | AR11: ĐH Lan | AS11: NTP Lan B | AT11: TX Điện | AU11: TT Quyên | AV11: LTA Nguyệt
B12: 5 | C12: 11h05-11h50 | T12: GDCD | AI12: LSĐL-S | AJ12: KHTN-H | AK12: TOÁN | AL12: NGỮ VĂN | AM12: GDCD | AN12: KHTN-L | AO12: TOÁN | AP12: TOÁN | AQ12: LSĐL-Đ | AR12: TOÁN | AS12: KHTN-S | AT12: LSĐL-Đ | AU12: LSĐL-S | AV12: KHTN-L
T13: NTB Châu | AI13: ĐT Năng | AJ13: NS Tùng | AK13: LT Hương | AL13: NP Dung | AM13: NH Vi | AN13: LT Loan | AO13: PT Hương | AP13: PH Minh | AQ13: NTT Thủy Đ | AR13: ĐH Lan | AS13: PTN Trâm | AT13: LTA Nguyệt | AU13: ĐTH Nga | AV13: NTT Đông
A14: BA | B14: 1 | C14: 7h30-8h15 | D14: TIẾNG ANH | E14: TOÁN | F14: TOÁN | G14: TOÁN | H14: CÔNG NGHỆ | I14: KHTN | J14: LSĐL-S | K14: TOÁN | L14: LSĐL-S | M14: NGỮ VĂN | N14: LSĐL-S | O14: TOÁN | P14: KHTN | Q14: ĐỌC SÁCH | R14: NGỮ VĂN | S14: GDTC | T14: NGỮ VĂN | U14: HĐTN-HN | V14: NGỮ VĂN | W14: KHTN-S | X14: NGỮ VĂN | Y14: TOÁN | Z14: TOÁN | AA14: LSĐL-Đ | AB14: TIẾNG ANH | AC14: GDTC | AD14: TIẾNG ANH | AE14: GD ĐP | AF14: LSĐL-Đ | AG14: TIẾNG ANH | AH14: KHTN-S | AI14: GDTC | AJ14: TOÁN | AK14: KHTN-L | AL14: GDTC | AM14: NGỮ VĂN | AN14: TIẾNG ANH | AO14: GDTC | AP14: TOÁN | AQ14: KHTN-H | AR14: NT-NHẠC | AS14: TOÁN | AT14: CÔNG NGHỆ | AU14: KHTN-L | AV14: TOÁN | AW14: TIẾNG ANH
D15: VNT Trang | E15: NTT Thủy A | F15: LT Hương | G15: NK Linh | H15: NTB Vân | I15: NTN Liên | J15: ĐTH Nga | K15: PT Hương | L15: NTP Lan B | M15: PTL Anh | N15: ĐT Năng | O15: NM Kiên | P15: ĐĐ Hưng | Q15: NTH Mai | R15: NH Vi | S15: NT Thành | T15: NT Hảo | U15: BTT Hương | V15: VB Hạnh | W15: HTH Quỳnh | X15: NTT Thủy Đ | Y15: TX Điện | Z15: NT Vân | AA15: ĐD Định | AB15: HTM Hương | AC15: TTT Hạnh | AD15: ĐTN Hà | AE15: TTM Hương | AF15: NT Tùng | AG15: TM Hằng | AH15: TTT Hằng | AI15: NTT Hương | AJ15: NT Tâm | AK15: NTT Đông | AL15: DT Dung | AM15: ĐA Thảo | AN15: NPH Anh | AO15: KV Dũng | AP15: PH Minh | AQ15: VĐ Phương | AR15: NMT Linh | AS15: LM Tâm | AT15: TT Quyên | AU15: PTM Ngân | AV15: NTT Thuỷ B | AW15: BL Phương
B16: 2 | C16: 8h20-9h05 | D16: GDTC | E16: CÔNG NGHỆ | F16: TOÁN | G16: NT-NHẠC | H16: KHTN | I16: KHTN | J16: CÔNG NGHỆ | K16: TOÁN | L16: TIN HỌC | M16: NGỮ VĂN | N16: NT-HỌA | O16: TOÁN | P16: LSĐL-S | Q16: LSĐL-S | R16: KHTN | S16: TIẾNG ANH | T16: NGỮ VĂN | U16: NGỮ VĂN | V16: NGỮ VĂN | W16: KHTN-L | X16: NGỮ VĂN | Y16: KHTN-H | Z16: TOÁN | AA16: LSĐL-S | AB16: TOÁN | AC16: NT-NHẠC | AD16: TIẾNG ANH | AE16: LSĐL-Đ | AF16: KHTN-S | AG16: GDTC | AH16: NT-HOẠ | AI16: NGỮ VĂN | AJ16: TOÁN | AK16: GDCD | AL16: KHTN-H | AM16: NGỮ VĂN | AN16: LSĐL-Đ | AO16: LSĐL-Đ | AP16: CÔNG NGHỆ | AQ16: NGỮ VĂN | AR16: KHTN-L | AS16: CÔNG NGHỆ | AT16: GDTC | AU16: HĐTN-HN | AV16: TOÁN | AW16: TOÁN PHÁP
D17: TTT Hạnh | E17: NTB Vân | F17: LT Hương | G17: NTP Lan N | H17: ĐĐ Hưng | I17: NTN Liên | J17: NTH Thúy | K17: PT Hương | L17: NTT Thủy A | M17: PTL Anh | N17: LN Anh | O17: NM Kiên | P17: NTP Lan B | Q17: ĐTH Nga | R17: TT Loan | S17: NPH Anh | T17: NT Hảo | U17: BTT Hương | V17: VB Hạnh | W17: PTM Ngân | X17: NTT Thủy Đ | Y17: NTT Huyền | Z17: NT Vân | AA17: ĐT Năng | AB17: TX Điện | AC17: NMT Linh | AD17: ĐTN Hà | AE17: ĐD Định | AF17: TTT Hằng | AG17: DT Dung | AH17: LT Phong | AI17: VTT Nhàn | AJ17: NT Tâm | AK17: NH Vi | AL17: VĐ Phương | AM17: ĐA Thảo | AN17: VH Giang | AO17: LTA Nguyệt | AP17: TT Quyên | AQ17: HT Minh | AR17: NTT Đông | AS17: LM Tâm | AT17: NT Thành | AU17: ĐT Thủy | AV17: NTT Thuỷ B | AW17: NK Linh
B18: 3 | C18: 9h25-10h10 | D18: NGỮ VĂN | E18: KHTN | F18: GDTC | G18: CÔNG NGHỆ | H18: LSĐL-Đ | I18: CÔNG NGHỆ | J18: TIẾNG ANH | K18: TIẾNG ANH | L18: NGỮ VĂN | M18: GDTC | N18: TOÁN | O18: TIẾNG ANH | P18: TOÁN | Q18: TOÁN | R18: KHTN | S18: ĐỌC SÁCH | T18: TIẾNG PHÁP | U18: KHTN-S | V18: KHTN-S | W18: GDTC | X18: GDTC | Y18: NT-NHẠC | Z18: KHTN-S | AA18: KHTN-H | AB18: GD ĐP | AC18: NT-HỌA | AD18: LSĐL-Đ | AE18: TIẾNG ANH | AF18: GDTC | AG18: NT-HỌA | AH18: NGỮ VĂN | AI18: NGỮ VĂN | AJ18: TIẾNG ANH | AK18: CÔNG NGHỆ | AL18: TIẾNG ANH | AM18: TOÁN | AN18: NGỮ VĂN | AO18: CÔNG NGHỆ | AP18: KHTN-L | AQ18: NGỮ VĂN | AR18: TIẾNG ANH | AS18: LSĐL-Đ | AT18: TOÁN | AU18: LSĐL-Đ | AV18: KHTN-L | AW18: TIẾNG PHÁP
D19: BTT Hương | E19: NH Anh | F19: KV Dũng | G19: NTH Thúy | H19: LTA Nguyệt | I19: NTB Vân | J19: LTT Hà | K19: NTH Mai | L19: NT Hảo | M19: NT Thành | N19: NK Linh | O19: VNT Trang | P19: PH Minh | Q19: LT Hương | R19: TT Loan | S19: NPH Anh | T19: CK Đức | U19: NTN Liên | V19: TTT Hằng | W19: DT Dung | X19: NTT Hương | Y19: NMT Linh | Z19: HTH Quỳnh | AA19: NTT Huyền | AB19: TTM Hương | AC19: LN Anh | AD19: NT Tùng | AE19: HTM Hương | AF19: NTP Lan TD | AG19: LT Phong | AH19: LTH Yến | AI19: VTT Nhàn | AJ19: TTH Giang | AK19: LM Tâm | AL19: ĐTN Hà | AM19: PT Hương | AN19: NTP Lan B | AO19: TT Quyên | AP19: NT Phượng | AQ19: HT Minh | AR19: TM Hằng | AS19: NTT Thủy Đ | AT19: TX Điện | AU19: VH Giang | AV19: NTT Đông | AW19: CTM Tâm
B20: 4 | C20: 10h15-11h00 | D20: NGỮ VĂN | E20: TIẾNG ANH | F20: LSĐL-S | G20: KHTN | H20: LSĐL-S | I20: LSĐL-Đ | J20: KHTN | K20: TIẾNG ANH | L20: NGỮ VĂN | M20: TIẾNG ANH | N20: TOÁN | O20: TIẾNG ANH | P20: TOÁN | Q20: TOÁN | R20: GD ĐP | S20: KHTN | T20: TIẾNG PHÁP | U20: KHTN-H | V20: NT-HỌA | W20: NT-NHẠC | X20: LSĐL-Đ | Y20: KHTN-L | Z20: GDTC | AA20: GDTC | AB20: TIN HỌC | AC20: KHTN-S | AD20: KHTN-S | AE20: TIẾNG ANH | AF20: LSĐL-Đ | AG20: KHTN-L | AH20: NGỮ VĂN | AI20: CÔNG NGHỆ | AJ20: TIẾNG ANH | AK20: TIẾNG ANH | AL20: TIẾNG ANH | AM20: TOÁN | AN20: NGỮ VĂN | AO20: GDCD | AP20: NGỮ VĂN | AQ20: LSĐL-Đ | AR20: NGỮ VĂN | AS20: NT-NHẠC | AT20: TOÁN | AU20: GDTC | AV20: LSĐL-Đ | AW20: TIẾNG PHÁP
D21: BTT Hương | E21: NPH Anh | F21: ĐTH Nga | G21: NTN Liên | H21: ĐT Năng | I21: VH Giang | J21: TT Loan | K21: NTH Mai | L21: NT Hảo | M21: BL Phương | N21: NK Linh | O21: VNT Trang | P21: PH Minh | Q21: LT Hương | R21: TH Nhung | S21: NH Anh | T21: CK Đức | U21: NTT Huyền | V21: LT Phong | W21: NMT Linh | X21: ĐD Định | Y21: NT Phượng | Z21: NTP Lan TD | AA21: NTT Hương | AB21: NTB Vân | AC21: HTH Quỳnh | AD21: TTT Hằng | AE21: HTM Hương | AF21: NT Tùng | AG21: NTT Đông | AH21: LTH Yến | AI21: TVN Sơn | AJ21: TTH Giang | AK21: LTT Hà | AL21: ĐTN Hà | AM21: PT Hương | AN21: NTP Lan B | AO21: NH Vi | AP21: PTL Anh | AQ21: NTT Thủy Đ | AR21: HT Minh | AS21: NTP Lan N | AT21: TX Điện | AU21: NT Thành | AV21: LTA Nguyệt | AW21: CTM Tâm
B22: 5 | C22: 11h05-11h50 | T22: ĐỌC SÁCH | AI22: TIẾNG PHÁP | AJ22: NT-HỌA | AK22: TIẾNG ANH | AL22: HĐTN_HN | AM22: LSĐL-Đ | AN22: TOÁN | AO22: TIẾNG ANH | AP22: NGỮ VĂN | AQ22: CÔNG NGHỆ | AR22: NGỮ VĂN | AS22: KHTN-L | AT22: NGỮ VĂN | AU22: NT-NHẠC | AV22: LSĐL-S
T23: NTH Mai | AI23: CK Đức | AJ23: LN Anh | AK23: LTT Hà | AL23: TT Hương | AM23: LTA Nguyệt | AN23: PH Minh | AO23: TTH Giang | AP23: PTL Anh | AQ23: TVN Sơn | AR23: HT Minh | AS23: NT Phượng | AT23: VH Giang | AU23: NTP Lan N | AV23: ĐTH Nga
A24: TƯ | B24: 1 | C24: 7h30-8h15 | D24: TIẾNG ANH | E24: GDTC | F24: NGỮ VĂN | G24: NGỮ VĂN | H24: NGỮ VĂN | I24: TIẾNG ANH | J24: NGỮ VĂN | K24: GDTC | L24: NT-HỌA | M24: KHTN | N24: LSĐL-S | O24: TOÁN | P24: LSĐL-S | Q24: TOÁN | R24: TOÁN | S24: KHTN | T24: KHTN | U24: TOÁN | V24: GDTC | W24: KHTN-S | X24: TOÁN | Y24: KHTN-S | Z24: TIẾNG ANH | AA24: CÔNG NGHỆ | AB24: TOÁN | AC24: TOÁN | AD24: KHTN-L | AE24: TOÁN | AF24: GD ĐP | AG24: TOÁN | AH24: TIẾNG ANH | AI24: LSĐL-Đ | AJ24: NGỮ VĂN | AK24: GDTC | AL24: NT-NHẠC | AM24: GD ĐP | AN24: GDTC | AO24: TOÁN | AP24: LSĐL-Đ | AQ24: TOÁN | AR24: KHTN-H | AS24: LSĐL-Đ | AT24: LSĐL-S | AU24: NGỮ VĂN | AV24: CÔNG NGHỆ
D25: VNT Trang | E25: NĐ Duy | F25: PTV Anh | G25: NTP Lan A | H25: LTH Yến | I25: TTT Hiền | J25: NTT An | K25: TTT Hạnh | L25: LN Anh | M25: ĐĐ Hưng | N25: ĐT Năng | O25: NM Kiên | P25: NTP Lan B | Q25: LT Hương | R25: VT Hà | S25: NH Anh | T25: TT Hồng | U25: TTT Hương | V25: NTT Hương | W25: HTH Quỳnh | X25: HTQ Lan | Y25: TTT Hằng | Z25: ĐTN Hà | AA25: NTH Thúy | AB25: TX Điện | AC25: HT Hạnh | AD25: NT Phượng | AE25: LP Thảo | AF25: TTM Hương | AG25: NT Kỳ | AH25: NTH Mai | AI25: NT Tùng | AJ25: NP Thanh | AK25: NT Thành | AL25: NMT Linh | AM25: ĐA Thảo | AN25: DT Dung | AO25: PT Hương | AP25: VH Giang | AQ25: NT Tâm | AR25: NS Tùng | AS25: NTT Thủy Đ | AT25: LT Thoa | AU25: ĐT Thủy | AV25: TT Quyên
B26: 2 | C26: 8h20-9h05 | D26: KHTN | E26: KHTN | F26: KHTN | G26: NGỮ VĂN | H26: NGỮ VĂN | I26: NGỮ VĂN | J26: NGỮ VĂN | K26: KHTN | L26: LSĐL-S | M26: KHTN | N26: GDTC | O26: LSĐL-S | P26: NT-HOẠ | Q26: TIẾNG ANH | R26: TOÁN | S26: GDTC | T26: GDTC | U26: KHTN-L | V26: CÔNG NGHỆ | W26: TIẾNG ANH | X26: TOÁN | Y26: TOÁN | Z26: KHTN-S | AA26: NT-NHẠC | AB26: NGỮ VĂN | AC26: TOÁN | AD26: TIN HỌC | AE26: NT-HOẠ | AF26: KHTN-S | AG26: TOÁN | AH26: GDTC | AI26: GDTC | AJ26: NGỮ VĂN | AK26: TOÁN | AL26: GDTC | AM26: NGỮ VĂN | AN26: TIẾNG ANH | AO26: TOÁN | AP26: CÔNG NGHỆ | AQ26: TOÁN | AR26: CÔNG NGHỆ | AS26: TOÁN | AT26: NGỮ VĂN | AU26: NGỮ VĂN | AV26: TIN HỌC
D27: NS Tùng | E27: NH Anh | F27: TT Hồng | G27: NTP Lan A | H27: LTH Yến | I27: TTM Hương | J27: NTT An | K27: TT Loan | L27: NTP Lan B | M27: ĐĐ Hưng | N27: NĐ Duy | O27: PTN Hằng | P27: LN Anh | Q27: NTH Mai | R27: VT Hà | S27: NT Thành | T27: TTT Hạnh | U27: NT Phượng | V27: NTH Thúy | W27: TTT Hiền | X27: HTQ Lan | Y27: TX Điện | Z27: HTH Quỳnh | AA27: NMT Linh | AB27: NTT Thủy Đ | AC27: HT Hạnh | AD27: LP Thảo | AE27: LT Phong | AF27: TTT Hằng | AG27: NT Kỳ | AH27: NTP Lan TD | AI27: NTT Hương | AJ27: NP THanh | AK27: LT Hương | AL27: DT Dung | AM27: ĐA Thảo | AN27: NPH Anh | AO27: PT Hương | AP27: TT Quyên | AQ27: NT Tâm | AR27: TVN Sơn | AS27: LM Tâm | AT27: VH Giang | AU27: ĐT Thủy | AV27: NM Kiên
B28: 3 | C28: 9h25-10h10 | D28: KHTN | E28: NGỮ VĂN | F28: KHTN | G28: LSĐL-S | H28: TIẾNG ANH | I28: NGỮ VĂN | J28: KHTN | K28: TIẾNG ANH | L28: KHTN | M28: GDTC | N28: CÔNG NGHỆ | O28: NGỮ VĂN | P28: KHTN | Q28: NGỮ VĂN | R28: LSĐL-S | S28: TOÁN | T28: GD ĐP | U28: NT-NHẠC | V28: TOÁN | W28: TOÁN | X28: LSĐL-Đ | Y28: TOÁN | Z28: GDTC | AA28: TIẾNG ANH | AB28: LSĐL-Đ | AC28: KHTN-S | AD28: TOÁN | AE28: NGỮ VĂN | AF28: NT-HỌA | AG28: NGỮ VĂN | AH28: KHTN-L | AI28: KHTN-S | AJ28: LSĐL-S | AK28: TOÁN | AL28: TIẾNG ANH | AM28: GDTC | AN28: TIN HỌC | AO28: NT-NHẠC | AP28: GDCD | AQ28: KHTN-L | AR28: NT-HỌA | AS28: NGỮ VĂN | AT28: NGỮ VĂN | AU28: CÔNG NGHỆ | AV28: NGỮ VĂN
D29: NS Tùng | E29: NP Thanh | F29: TT Hồng | G29: ĐT Năng | H29: BP Linh | I29: TTM Hương | J29: TT Loan | K29: NTH Mai | L29: PT Mai | M29: NT Thành | N29: NTH Thúy | O29: PTV Anh | P29: ĐĐ Hưng | Q29: NP Dung | R29: PTN Hằng | S29: NTB Vân | T29: NTT An | U29: NMT Linh | V29: TVN Sơn | W29: NT Kỳ | X29: NTT Thủy Đ | Y29: TX Điện | Z29: NTP Lan TD | AA29: TTT Hiền | AB29: NT Tùng | AC29: HTH Quỳnh | AD29: NM Kiên | AE29: LTH Yến | AF29: LT Phong | AG29: NH Lê | AH29: PTM Ngân | AI29: TTT Hằng | AJ29: LT Thoa | AK29: LT Hương | AL29: ĐTN Hà | AM29: DT Dung | AN29: ĐH Lan | AO29: NTP Lan N | AP29: BTM Hương | AQ29: NT Phượng | AR29: LN Anh | AS29: NTP Lan B | AT29: VH Giang | AU29: TT Quyên | AV29: LTA Nguyệt
B30: 4 | C30: 10h15-11h00 | D30: TIN HỌC | E30: NGỮ VĂN | F30: TIẾNG ANH | G30: GDTC | H30: GDTC | I30: LSĐL-S | J30: KHTN | K30: LSĐL-S | L30: KHTN | M30: CÔNG NGHỆ | N30: TIẾNG ANH | O30: NGỮ VĂN | P30: TIẾNG ANH | Q30: NGỮ VĂN | R30: NGỮ VĂN | S30: TOÁN | T30: TOÁN | U30: GDTC | V30: GD ĐP | W30: TOÁN | X30: TIẾNG ANH | Y30: NGỮ VĂN | Z30: KHTN-L | AA30: NGỮ VĂN | AB30: NT-HỌA | AC30: TIẾNG ANH | AD30: LSĐL-Đ | AE30: NGỮ VĂN | AF30: NGỮ VĂN | AG30: Nt-NHẠC | AH30: KHTN-H | AI30: TOÁN | AJ30: HĐNT-HN | AK30: LSĐL-Đ | AL30: TIN HỌC | AM30: TOÁN | AN30: CÔNG NGHỆ | AO30: NGỮ VĂN | AP30: TIẾNG ANH | AQ30: TIN HỌC | AR30: GDTC | AS30: NGỮ VĂN | AT30: TOÁN | AU30: KHTN-L | AV30: NGỮ VĂN
D31: LM Tâm | E31: NP Thanh | F31: LTT Hà | G31: TTT Hạnh | H31: NT Thành | I31: PTN Hằng | J31: TT Loan | K31: ĐT Năng | L31: PT Mai | M31: NTH Thúy | N31: NPH Anh | O31: PTV Anh | P31: BP Linh | Q31: NP Dung | R31: NH Vi | S31: NTB Vân | T31: VT Hà | U31: DT Dung | V31: TTM Hương | W31: NT Kỳ | X31: NTH Mai | Y31: NT Nga | Z31: NT Phượng | AA31: NTP Lan A | AB31: LT Phoang | AC31: TTT Hiền | AD31: NT Tùng | AE31: LTH Yến | AF31: NTT An | AG31: NMT Linh | AH31: NS Tùng | AI31: HT Hạnh | AJ31: NT Tâm | AK31: VH Giang | AL31: ĐH Lan | AM31: PT Hương | AN31: TT Quyên | AO31: NH Lê | AP31: TT Sơn | AQ31: LP Thảo | AR31: NĐ Duy | AS31: NTP Lan B | AT31: TX Điện | AU31: PTM Ngân | AV31: LTA Nguyệt
B32: 5 | C32: 11h05-11h50 | T32: TOÁN | AI32: TOÁN | AJ32: TOÁN | AK32: TIẾNG ANH | AL32: NGỮ VĂN | AM32: TOÁN | AN32: GDCD | AO32: LSĐL-Đ | AP32: TIẾNG ANH | AQ32: KHTN-S | AR32: LSĐL-Đ | AS32: CÔNG NGHỆ | AT32: TIN HỌC | AU32: TOÁN | AV32: NT-NHẠC
T33: VT Hà | AI33: HT Hạnh | AJ33: NT Tâm | AK33: LTT Hà | AL33: NP Dung | AM33: PT Hương | AN33: NH Vi | AO33: LTA Nguyệt | AP33: TT Sơn | AQ33: HTH Quỳnh | AR33: NTT Thủy Đ | AS33: LM Tâm | AT33: NM Kiên | AU33: LP Thảo | AV33: NTP Lan N
A34: NĂM | B34: 1 | C34: 7h30-8h15 | D34: GDTC | E34: LSĐL-S | F34: GDCD | G34: TIẾNG ANH | H34: KHTN | I34: TOÁN | J34: LSĐL-S | K34: NGỮ VĂN | L34: TOÁN | M34: TOÁN | N34: TIẾNG ANH | O34: CÔNG NGHỆ | P34: NGỮ VĂN | Q34: TOÁN | R34: NT-HOẠ | S34: KHTN | T34: KHTN | U34: KHTN-S | V34: NGỮ VĂN | W34: NGỮ VĂN | X34: GDTC | Y34: LSĐL-Đ | Z34: CÔNG NGHỆ | AA34: KHTN-S | AB34: GDTC | AC34: GD ĐP | AD34: NT-NHẠC | AE34: NT-NHẠC | AF34: HĐTN-HN | AG34: LSĐL-Đ | AH34: TOÁN | AI34: TOÁN | AJ34: NT-NHẠC | AK34: TIN HỌC | AL34: LSĐL-Đ | AM34: CÔNG NGHỆ | AN34: NGỮ VĂN | AO34: KHTN-L | AP34: LSĐL-Đ | AQ34: TIÊNG ANH | AR34: KHTN-L | AS34: HĐTN-HN | AT34: TIẾNG ANH | AU34: TOÁN | AV34: TOÁN | AW34: TIẾNG PHÁP
D35: TTT Hạnh | E35: ĐT Năng | F35: TT Thùy | G35: NTH Quyên | H35: ĐĐ Hưng | I35: ĐH Lan | J35: ĐTH Nga | K35: ĐA Thảo | L35: TTT Hương | M35: NT Kỳ | N35: NPH Anh | O35: NTB Vân | P35: TH Nhung | Q35: LT Hương | R35: LN Anh | S35: NH Anh | T35: TT Hồng | U35: NTN Liên | V35: VB Hạnh | W35: TTN Anh | X35: NTT Hương | Y35: ĐD Định | Z35: NTH Thúy | AA35: HTH Quỳnh | AB35: NTP Lan TD | AC35: TTM Hương | AD35: NT Lan | AE35: NTH Ngọc | AF35: HD Vy | AG35: ĐT Hà | AH35: LM Tâm | AI35: HT Hạnh | AJ35: NMT Linh | AK35: NT Hà | AL35: NTT Thủy Đ | AM35: TT Quyên | AN35: NTP Lan B | AO35: PTM Ngân | AP35: VH Giang | AQ35: TM Hằng | AR35: NTT Đông | AS35: NT Hải | AT35: ĐTN Hà | AU35: LP Thảo | AV35: NTT Thủy B | AW35: CTM Tâm
B36: 2 | C36: 8h20-9h05 | D36: LSĐL-Đ | E36: KHTN | F36: LSĐL-S | G36: LSĐL-S | H36: KHTN | I36: TOÁN | J36: NT-HỌA | K36: HĐTN-HN | L36: KHTN | M36: TOÁN | N36: TOÁN | O36: GDTC | P36: NGỮ VĂN | Q36: CÔNG NGHỆ | R36: TIẾNG ANH | S36: TOÁN | T36: KHTN | U36: TOÁN | V36: NGỮ VĂN | W36: NGỮ VĂN | X36: TOÁN | Y36: CÔNG NGHỆ | Z36: LSĐL-Đ | AA36: LSĐL-Đ | AB36: LSĐL-S | AC36: TIN HỌC | AD36: GDTC | AE36: KHTN-S | AF36: TIẾNG ANH | AG36: NGỮ VĂN | AH36: TOÁN | AI36: TOÁN | AJ36: TIN HỌC | AK36: HĐTN-HN | AL36: KHTN-L | AM36: NT-NHẠC | AN36: HĐTN-HN | AO36: CÔNG NGHỆ | AP36: LSĐL-S | AQ36: TIÊNG ANH | AR36: HĐTN-HN | AS36: TIẾNG ANH | AT36: TIẾNG ANH | AU36: KHTN-S | AV36: TOÁN | AW36: TIẾNG PHÁP
D37: VH Giang | E37: NH Anh | F37: ĐTH Nga | G37: ĐT Năng | H37: ĐĐ Hưng | I37: ĐH Lan | J37: LN Anh | K37: ĐA Thảo | L37: PT Mai | M37: NT Kỳ | N37: NK Linh | O37: TTT Hạnh | P37: TH Nhung | Q37: PH Minh | R37: NTH Quyên | S37: NTB Vân | T37: TT Hồng | U37: TTT Hương | V37: VB Hạnh | W37: TTN Anh | X37: HTQ Lan | Y37: NTH Thúy | Z37: ĐT Hà | AA37: ĐD Định | AB37: VTT Nhàn | AC37: LP Thảo | AD37: NTT Hương | AE37: HTH Quỳnh | AF37: HD Vy | AG37: NH Lê | AH37: LM Tâm | AI37: HT Hạnh | AJ37: NT Hà | AK37: NTT Đông | AL37: NT Phượng | AM37: NMT Linh | AN37: NTP Lan B | AO37: TT Quyên | AP37: LT Thoa | AQ37: TM Hằng | AR37: HT Minh | AS37: NT Hải | AT37: ĐTN Hà | AU37: NTN Liên | AV37: NTT Thủy B | AW37: CTM Tâm
B38: 3 | C38: 9h25-10h10 | D38: PTTD TOÁN HỌC | E38: PTKN GIAO TIẾP | F38: PTTD TOÁN HỌC | G38: PTKN GIAO TIẾP | H38: TIẾNG NHẬT | I38: PTTD TOÁN HỌC | J38: PTKN GIAO TIẾP | K38: TIẾNG NHẬT | L38: PTTD TOÁN HỌC | M38: PTKN GIAO TIẾP | N38: PTTD TOÁN HỌC | O38: PTKN GIAO TIẾP | P38: PTKN GIAO TIẾP | Q38: PTKN GIAO TIẾP | R38: PTKN GIAO TIẾP | S38: PTKN GIAO TIẾP | T38: LSĐL-Đ | U38: TIẾNG ANH | V38: LSĐL-Đ | W38: CÔNG NGHỆ | X38: TOÁN | Y38: GD ĐP | Z38: NT-NHẠC | AA38: TOÁN | AB38: NGỮ VĂN | AC38: TOÁN | AD38: NGỮ VĂN | AE38: LSĐL-Đ | AF38: KHTN-L | AG38: GDCD | AH38: GDTC | AI38: KHTN-L | AJ38: GDTC | AK38: NGỮ VĂN | AL38: NT-HỌA | AM38: KHTN-S | AN38: NT-NHẠC | AO38: HĐTN-HN | AP38: TOÁN | AQ38: NGỮ VĂN | AR38: TIN HỌC | AS38: LSĐL-S | AT38: NGỮ VĂN | AU38: KHTN-H | AV38: NGỮ VĂN | AW38: TIẾNG PHÁP
T39: ĐTH Nga | U39: TM Hằng | V39: ĐT Hà | W39: NT Kỳ | X39: HTQ Lan | Y39: TTM Hương | Z39: NT Lan | AA39: NK Linh | AB39: NTT Thủy Đ | AC39: HT Hạnh | AD39: NTB Châu | AE39: ĐD Định | AF39: NT Phượng | AG39: TH Nhung | AH39: NTP Lan TD | AI39: PTM Ngân | AJ39: KV Dũng | AK39: TT Thùy | AL39: LN Anh | AM39: NTN Liên | AN39: NMT Linh | AO39: NH Lê | AP39: PH Minh | AQ39: HT Minh | AR39: ĐH Lan | AS39: LT Thoa | AT39: VH Giang | AU39: PT Mai | AV39: LTA Nguyệt | AW39: CTM Tâm
B40: 4 | C40: 10h15-11h00 | D40: PTTD TOÁN HỌC | E40: PTKN GIAO TIẾP | F40: PTTD TOÁN HỌC | G40: PTKN GIAO TIẾP | H40: TIẾNG NHẬT | I40: PTTD TOÁN HỌC | J40: PTKN GIAO TIẾP | K40: TIẾNG NHẬT | L40: PTTD TOÁN HỌC | M40: PTKN GIAO TIẾP | N40: PTTD TOÁN HỌC | O40: PTKN GIAO TIẾP | P40: PTKN GIAO TIẾP | Q40: PTKN GIAO TIẾP | R40: PTKN GIAO TIẾP | S40: PTKN GIAO TIẾP | T40: NT-NHẠC | U40: LSĐL-Đ | V40: KHTN-H | W40: LSĐL-Đ | X40: GDCD | Y40: GDTC | Z40: TIẾNG ANH | AA40: TOÁN | AB40: NGỮ VĂN | AC40: NGỮ VĂN | AD40: NGỮ VĂN | AE40: TIN HỌC | AF40: TOÁN | AG40: TOÁN | AH40: NT-NHẠC | AI40: NGỮ VĂN | AJ40: LSĐL-Đ | AK40: NGỮ VĂN | AL40: TOÁN | AM40: NGỮ VĂN | AN40: TIẾNG ANH | AO40: KHTN-H | AP40: TOÁN | AQ40: NT-NHẠC | AR40: KHTN-S | AS40: NGỮ VĂN | AT40: KHTN-L | AU40: TIẾNG ANH | AV40: KHTN-S | AW40: GDTC
T41: NT Lan | U41: ĐD Định | V41: NH Anh | W41: ĐT Hà | X41: NH Nhung | Y41: TTT Hạnh | Z41: ĐTN Hà | AA41: NK Linh | AB41: NTT Thủy Đ | AC41: VB Hạnh | AD41: NTB Châu | AE41: LP Thảo | AF41: NTB Vân | AG41: NT Kỳ | AH41: NTH Ngọc | AI41: VTT Nhàn | AJ41: LTA Nguyệt | AK41: TT Thùy | AL41: NT Vân | AM41: ĐA Thảo | AN41: NPH Anh | AO41: PT Mai | AP41: PH Minh | AQ41: NMT Linh | AR41: NTN Liên | AS41: NTP Lan B | AT41: PTM Ngân | AU41: LTT Hà | AV41: HTH Quỳnh | AW41: NTP Lan TD
B42: 5 | C42: 11h05-11h50 | T42: CÔNG NGHỆ | AI42: NGỮ VĂN | AJ42: GDCD | AK42: GD ĐP | AL42: TOÁN | AM42: LSĐL-S | AN42: TOÁN | AO42: NT-HỌA | AP42: KHTN-S | AQ42: LSĐL-S | AR42: LSĐL-Đ | AS42: GD ĐP | AT42: LSĐL-Đ | AU42: TIẾNG ANH | AV42: TOÁN P
...

Sheet TKB CHIỀU
BB1: =HLOOKUP(2,$BC$1:$BF$3,3,0) -> #N/A
A3: THỨ | B3: Tiết | C3: Thời gian | D3: 6F | E3: 6A1 | F3: 6A2 | G3: 6A3 | H3: 6A4 | I3: 6A5 | J3: 6A6 | K3: 6A7 | L3: 6A8 | M3: 6A9 | N3: 6A10 | O3: 6A11 | P3: 6A12 | Q3: 6A13 | R3: 6A14 | S3: 6A15 | T3: 6P | U3: 7A1 | V3: 7A2 | W3: 7A3 | X3: 7A4 | Y3: 7A5 | Z3: 7A6 | AA3: 7A7 | AB3: 7A8 | AC3: 7A9 | AD3: 7A10 | AE3: 7A11 | AF3: 7A12 | AG3: 7A13 | AH3: 7A14 | AI3: 7P | AJ3: 8A1 | AK3: 8A2 | AL3: 8A3 | AM3: 8A4 | AN3: 8A5 | AO3: 8A6 | AP3: 8A7 | AQ3: 8A8 | AR3: 8A9 | AS3: 8A10 | AT3: 8A11 | AU3: 8A12 | AV3: 8P | AW3: 9P | BB3: =BB1&#REF! -> #N/A
A4: HAI | B4: 1 | C4: 13h00-13h45 | AJ4: KHTN-S | AK4: CÔNG NGHỆ | AL4: KHTN-H | AM4: LSĐL-S | AN4: GD ĐP | AO4: CÔNG NGHỆ | AP4: NGỮ VĂN | AQ4: TIẾNG ANH | AR4: KHTN-H | AS4: GD ĐP | AT4: TOÁN | AU4: NGỮ VĂN | AV4: NGỮ VĂN
AJ5: TTT Hằng | AK5: VT Hà | AL5: NH Anh | AM5: VTT Nhàn | AN5: ĐT Thủy | AO5: NTM Thu | AP5: NH Lê | AQ5: NT Hải | AR5: NS Tùng | AS5: NTP Lan A | AT5: PH Giang | AU5: NT Nga | AV5: NTT Hạnh | AZ5: =IF(AZ4<>"",VLOOKUP(AZ4,#REF!,'[1]TKB SÁNG'!#REF!,0),"")
B6: 2 | C6: 13h50-14h35 | D6: CÔNG NGHỆ | E6: KHTN | F6: ĐỌC SÁCH | G6: ĐỌC SÁCH | H6: TIN HỌC | I6: TIẾNG ANH | J6: NGỮ VĂN | K6: NGỮ VĂN | L6: LSĐL-Đ | M6: TIẾNG ANH | N6: TIẾNG ANH | O6: NT-NHẠC | P6: TIN HỌC | Q6: GDTC | R6: CÔNG NGHỆ | S6: GDCD | T6: TIẾNG PHÁP | U6: TIẾNG ANH | V6: TOÁN | W6: LSĐL-S | X6: NGỮ VĂN | Y6: TOÁN | Z6: GD ĐP | AA6: TOÁN | AB6: KHTN-H | AC6: GDCD | AD6: HĐTN-HD | AE6: GDCD | AF6: GDTC | AG6: CÔNG NGHỆ | AH6: NGỮ VĂN | AI6: NT-NHẠC | AJ6: KHTN-L | AK6: TIẾNG ANH | AL6: LSĐL-S | AM6: GDTC | AN6: TOÁN | AO6: TIẾNG ANH | AP6: TOÁN | AQ6: KHTN-H | AR6: KHTN-S | AS6: TIẾNG ANH | AT6: CÔNG NGHỆ | AU6: NGỮ VĂN | AV6: LSĐL-S
D7: NTH Thúy | E7: NH Anh | F7: LTT Hà | G7: NTH Quyên | H7: NTT Thủy A | I7: TTT Hiền | J7: NTT An | K7: ĐA Thảo | L7: LTA Nguyệt | M7: BL Phương | N7: NPH Anh | O7: NTP Lan N | P7: LM Tâm | Q7: NT Tâm TD | R7: NTM Thu | S7: NTB Châu | T7: CK Đức | U7: TM Hằng | V7: TVN Sơn | W7: VTT Nhàn | X7: NTT Thủy Đ | Y7: TX Điện | Z7: LH Lan | AA7: NK Linh | AB7: TT Loan | AC7: BTM Hương | AD7: ĐTN Hà | AE7: TH Nhung | AF7: NTP Lan TD | AG7: NT Kỳ | AH7: LTH Yến | AI7: NTH Ngọc | AJ7: NTT Đông | AK7: HD Vy | AL7: NT Hảo | AM7: NTT Hương | AN7: PQ Linh | AO7: VNT Trang | AP7: HT Hạnh | AQ7: PT Mai | AR7: TTT Hằng | AS7: HTM Hương | AT7: TT Quyên | AU7: NT Nga | AV7: LT Thoa | AZ7: =IF(AZ6<>"",VLOOKUP(AZ6,#REF!,'[1]TKB SÁNG'!#REF!,0),"")
B8: 3 | C8: 14h40-15h25 | D8: TOÁN | E8: LSĐL-Đ | F8: TIN HỌC | G8: HĐTN-HN | H8: HĐTN-HN | I8: GD ĐP | J8: ĐỌC SÁCH | K8: CÔNG NGHỆ | L8: GDTC | M8: HĐTN-HN | N8: GDCD | O8: TIẾNG ANH | P8: GDCD | Q8: GDCD | R8: KHTN | S8: GD ĐP | T8: TIẾNG PHÁP | U8: GDCD | V8: TIN HỌC | W8: NGỮ VĂN | X8: LSĐL-S | Y8: KHTN-S | Z8: TOÁN | AA8: TIẾNG ANH | AB8: TOÁN | AC8: KHTN-L | AD8: GDCD | AE8: TIẾNG ANH | AF8: TOÁN | AG8: TIẾNG ANH | AH8: LSĐL-S | AI8: TOÁN PHÁP | AJ8: NGỮ VĂN | AK8: TOÁN | AL8: GDTC | AM8: TOÁN | AN8: LSĐL-S | AO8: NGỮ VĂN | AP8: LSĐL-S | AQ8: GDTC | AR8: TIẾNG ANH | AS8: NGỮ VĂN | AT8: GDTC | AU8: KHTN-H | AV8: TOÁN
D9: PQ Linh | E9: LTA Nguyệt | F9: NTT Thủy A | G9: NTH Quyên | H9: LTH Yến | I9: NTT An | J9: LTT Hà | K9: NTH Thúy | L9: NT Tâm TD | M9: BL Phương | N9: TT Thùy | O9: VNT Trang | P9: NTB Châu | Q9: NTT Hạnh | R9: TT Loan | S9: TH Nhung | T9: CK Đức | U9: BTM Hương | V9: PH Giang | W9: TTN Anh | X9: VTT Nhàn | Y9: TTT Hằng | Z9: NT Vân | AA9: TTT Hiền | AB9: TX Điện | AC9: NTT Đông | AD9: VB Hạnh | AE9: HTM Hương | AF9: NTB Vân | AG9: TM Hằng | AH9: ĐA Thảo | AI9: NK Linh | AJ9: LH Lan | AK9: HTQ Lan | AL9: NTP Lan TD | AM9: NTM Thu | AN9: LT Thoa | AO9: BTT Hương | AP9: NT Hảo | AQ9: NTT Hương | AR9: HD Vy | AS9: PTT Thủy | AT9: DT Dung | AU9: PT Mai | AV9: VT Hà | AZ9: =IF(AZ8<>"",VLOOKUP(AZ8,#REF!,'[1]TKB SÁNG'!#REF!,0),"")
B10: 4 | C10: 15h45-16h30 | D10: GDCD | E10: NT-NHẠC | F10: P.triển NL số | G10: NGỮ VĂN | I10: NT-NHẠC | J10: P.triển NL số | L10: P.triển NL số | M10: P.triển NL số | N10: P.triển NL số | O10: P.triển NL số | P10: NGỮ VĂN | S10: HĐTN-HN | T10: GDTC | U10: CHÀO CỜ | V10: CHÀO CỜ | W10: CHÀO CỜ | X10: CHÀO CỜ | Y10: CHÀO CỜ | Z10: CHÀO CỜ | AA10: CHÀO CỜ | AB10: CHÀO CỜ | AC10: CHÀO CỜ | AD10: CHÀO CỜ | AE10: CHÀO CỜ | AF10: CHÀO CỜ | AG10: CHÀO CỜ | AH10: CHÀO CỜ | AI10: CHÀO CỜ | AJ10: CHÀO CỜ | AK10: CHÀO CỜ | AL10: CHÀO CỜ | AM10: CHÀO CỜ | AN10: CHÀO CỜ | AO10: CHÀO CỜ | AP10: CHÀO CỜ | AQ10: CHÀO CỜ | AR10: CHÀO CỜ | AS10: CHÀO CỜ | AT10: CHÀO CỜ | AU10: CHÀO CỜ | AV10: CHÀO CỜ
D11: NTB Châu | E11: NTH Ngọc | G11: NTP Lan A | I11: NTP Lan N | P11: TH Nhung | S11: NPH Anh | T11: TTT Hạnh | U11: BTT Hương | V11: VB Hạnh | W11: TTN Anh | X11: NTT Thủy Đ | Y11: NTT Huyền | Z11: NT Vân | AA11: NK Linh | AB11: TX Điện | AC11: TTT Hiền | AD11: ĐTN Hà | AE11: HTM Hương | AF11: HD Vy | AG11: NT Kỳ | AH11: NS Tùng | AI11: CK Đức | AJ11: LH Lan | AK11: PTT Thủy | AL11: TTH Giang | AM11: TT Thùy | AN11: VNT Trang | AO11: PQ Linh | AP11: HT Hạnh | AQ11: NTM Thu | AR11: HTQ Lan | AS11: NT Hà | AT11: NTT Hạnh | AU11: NT Nga | AV11: CTM Tâm | AZ11: =IF(AZ10<>"",VLOOKUP(AZ10,#REF!,'[1]TKB SÁNG'!#REF!,0),"")
B12: 5 | C12: 16h35-17h20 | AJ12: NT-NHẠC | AK12: NGỮ VĂN | AL12: TIẾNG ANH | AM12: TIẾNG ANH | AN12: GDTC | AO12: GDTC | AP12: CÔNG NGHỆ | AQ12: LSĐL-S | AR12: CÔNG NGHỆ | AS12: TOÁN | AT12: GD ĐP | AU12: GDCD | AV12: GDTC
AJ13: NTH Ngọc | AK13: PTT Thủy | AL13: TTH Giang | AM13: HD Vy | AN13: DT Dung | AO13: NTT Hương | AP13: HT Hạnh | AQ13: LT Thoa | AR13: HTQ Lan | AS13: NT Hà | AT13: NTP Lan A | AU13: NT Nga | AV13: NTP Lan TD | AZ13: =IF(AZ12<>"",VLOOKUP(AZ12,#REF!,'[1]TKB SÁNG'!#REF!,0),"")
A14: BA | B14: 1 | C14: 13h00-13h45 | AJ14: GD ĐP | AK14: KHTN-S | AL14: NT-NHẠC | AM14: TOÁN | AN14: NGỮ VĂN | AO14: TIN HỌC | AP14: GDCD | AQ14: LSĐL-S | AR14: TOÁN | AS14: TOÁN | AT14: TIN HỌC | AU14: TIẾNG ANH | AV14: TOÁN
AJ15: NTP Lan A | AK15: TT Hương | AL15: NTH Ngọc | AM15: NTM Thu | AN15: NTB Châu | AO15: PQ Linh | AP15: NP Dung | AQ15: LT Thoa | AR15: HTQ Lan | AS15: NT Hà | AT15: NTT Thủy B | AU15: TTH Giang | AV15: VT Hà | AZ15: =IF(AZ14<>"",VLOOKUP(AZ14,#REF!,'[1]TKB SÁNG'!#REF!,0),"")
B16: 2 | C16: 13h50-14h35 | D16: LSĐL-S | E16: TOÁN | F16: KHTN | G16: LSĐL-Đ | H16: TIẾNG NHẬT | I16: NGỮ VĂN | J16: TIẾNG ANH | K16: GD ĐP | L16: TOÁN | M16: KHTN | N16: TIN HỌC | O16: GDTC | P16: CÔNG NGHỆ | Q16: KHTN | R16: NT-NHẠC | S16: NT-HOẠ | T16: TIẾNG ANH | U16: ĐỌC SÁCH | V16: TOÁN | W16: NT-HOẠ | X16: KHTN-L | Y16: TIN HỌC | Z16: TIN HỌC | AA16: KHTN-L | AB16: ĐỌC SÁCH | AC16: LSĐL-Đ | AD16: CÔNG NGHỆ | AE16: LSĐL-S | AF16: GDCD | AG16: GD ĐP | AH16: TIẾNG ANH | AI16: TIẾNG PHÁP | AJ16: KHTN-H | AK16: TIN HỌC | AL16: NT-HỌA | AM16: TOÁN | AN16: NGỮ VĂN | AO16: TOÁN | AP16: KHTN-S | AQ16: NGỮ VĂN | AR16: TOÁN | AS16: TIẾNG ANH | AT16: NGỮ VĂN | AU16: TIẾNG ANH | AV16: TOÁN
D17: ĐTH Nga | E17: NTT Thủy A | F17: TT Hồng | G17: ĐT Hà | I17: TTM Hương | J17: LTT Hà | K17: TH Nhung | L17: TTT Hương | M17: ĐĐ Hưng | N17: LM Tâm | O17: TTT Hạnh | P17: PH Minh | Q17: TT Hương | R17: NT Lan | S17: PTT Linh | T17: BP Linh | U17: NP Thanh | V17: TVN Sơn | W17: LN Anh | X17: NTT Đông | Y17: NTB Vân | Z17: PH Giang | AA17: PTM Ngân | AB17: TT Loan | AC17: ĐD Định | AD17: NTH Thúy | AE17: ĐT Năng | AF17: BTM Hương | AG17: LH Lan | AH17: NTH Mai | AI17: CK Đức | AJ17: PT Mai | AK17: NTT Thủy B | AL17: LT Phong | AM17: NTM Thu | AN17: NTB Châu | AO17: PQ Linh | AP17: PTN Trâm | AQ17: NH Vi | AR17: HTQ Lan | AS17: HTM Hương | AT17: NTT Hạnh | AU17: TTH Giang | AV17: VT Hà | AZ17: =IF(AZ16<>"",VLOOKUP(AZ16,#REF!,'[1]TKB SÁNG'!#REF!,0),"")
B18: 3 | C18: 14h40-15h25 | D18: P.triển NL số | E18: P.triển NL số | F18: TIẾNG ANH | G18: GDCD | H18: TOÁN | I18: TIN HỌC | J18: NT-NHẠC | K18: TIẾNG NHẬT | L18: HĐTN-HN | M18: LSĐL-Đ | N18: ĐỌC SÁCH | O18: GD ĐP | P18: HĐTN-HN | Q18: NT-HOẠ | R18: HĐTN-HN | S18: NGỮ VĂN | T18: TIẾNG ANH | U18: NT-HOẠ | V18: GDTC | W18: KHTN-H | X18: KHTN-H | Y18: ĐỌC SÁCH | Z18: P.triển NL số | AA18: TIN HỌC | AB18: KHTN-L | AC18: LSĐL-S | AD18: GD ĐP | AE18: GDTC | AF18: CÔNG NGHỆ | AG18: ĐỌC SÁCH | AH18: ĐỌC SÁCH | AI18: TIẾNG PHÁP | AJ18: TOÁN | AK18: TOÁN | AL18: TIẾNG ANH | AM18: KHTN-H | AN18: LSĐL-Đ | AO18: KHTN-S | AP18: TIẾNG ANH | AQ18: GD ĐP | AR18: GDCD | AS18: CÔNG NGHỆ | AT18: LSĐL-Đ | AU18: TOÁN | AV18: LSĐL-S
F19: LTT Hà | G19: NTB Châu | H19: TVN Sơn | I19: NTT Thủy A | J19: NT Lan | L19: TTT Hương | M19: ĐT Hà | N19: PTM Ngân | O19: TH Nhung | P19: PH Minh | Q19: PTT Linh | R19: NH Vi | S19: TTM Hương | T19: BP Linh | U19: LN Anh | V19: NTT Hương | W19: TT Loan | X19: TT Hồng | Y19: NP Thanh | AA19: PH Giang | AB19: NTT Đông | AC19: ĐT Năng | AD19: LH Lan | AE19: TTT Hạnh | AF19: NTH Thúy | AG19: ĐĐ Hưng | AH19: LM Tâm | AI19: CK Đức | AJ19: NT Hà | AK19: HTQ Lan | AL19: TTH Giang | AM19: PT Mai | AN19: NT Tùng | AO19: PTN Trâm | AP19: HTM Hương | AQ19: NTP Lan A | AR19: NP Dung | AS19: VT Hà | AT19: ĐD Định | AU19: NTT Thủy B | AV19: LT Thoa | AZ19: =IF(AZ18<>"",VLOOKUP(AZ18,#REF!,'[1]TKB SÁNG'!#REF!,0),"")
B20: 4 | C20: 15h45-16h30 | G20: P.triển NL số | H20: KHTN | I20: P.triển NL số | J20: LSĐL-Đ | K20: TIN HỌC | L20: NT-NHẠC | O20: ĐỌC SÁCH | Q20: HĐTN-HN | R20: TIN HỌC | T20: TIẾNG PHÁP | AJ20: TIN HỌC | AK20: LSĐL-S | AL20: KHTN-S | AM20: GDTC | AN20: TIN HỌC | AO20: GD ĐP | AP20: LSĐL-Đ | AQ20: KHTN-H | AR20: LSĐL-Đ | AS20: NT-NHẠC | AT20: TOÁN | AU20: TOÁN | AV20: NGỮ VĂN
H21: ĐĐ Hưng | J21: ĐT Hà | K21: NTT Thủy A | L21: NT Lan | O21: PTM Ngân | Q21: NP Dung | R21: LM Tâm | T21: CK Đức | AJ21: NT Hà | AK21: LT Thoa | AL21: PTN Trâm | AM21: NTT Hương | AN21: PQ Linh | AO21: NTP Lan A | AP21: ĐD ĐỊnh | AQ21: PT Mai | AR21: NT Tùng | AS21: NTH Ngọc | AT21: PH Giang | AU21: NTT Thủy B | AV21: NTT Hạnh
B22: 5 | C22: 16h35-17h20 | AJ22: NGỮ VĂN | AK22: GDCD | AL22: TOÁN | AM22: LSĐL-Đ | AN22: NT-HOẠ | AO22: LSĐL-S | AP22: NT-NHẠC | AQ22: KHTN-S | AR22: GD ĐP | AS22: GDTC | AT22: TOÁN | AU22: KHTN-H | AV22: NGỮ VĂN
AJ23: LH Lan | AK23: BTM Hương | AL23: NTT Thủy A | AM23: ĐD Định | AN23: PTT Linh | AO23: LT Thoa | AP23: NTH Ngọc | AQ23: PTN Trâm | AR23: NTP Lan A | AS23: NTT Hương | AT23: PH Giang | AU23: PT Mai | AV23: NTT Hạnh | AZ23: =IF(AZ22<>"",VLOOKUP(AZ22,#REF!,'[1]TKB SÁNG'!#REF!,0),"")
A24: TƯ | B24: 1 | C24: 13h00-13h45 | AJ24: LSĐL-S | AK24: GD ĐP | AL24: KHTN-L | AM24: KHTN-S | AN24: TOÁN | AO24: NGỮ VĂN | AP24: NT-HOẠ | AQ24: CÔNG NGHỆ | AR24: TIẾNG ANH | AS24: TOÁN | AT24: KHTN-S | AU24: TOÁN | AV24: KHTN-H
AJ25: VTT Nhàn | AK25: ĐT Thủy | AL25: LT Loan | AM25: TT Hương | AN25: PQ Linh | AO25: BTT Hương | AP25: TTK Ly | AQ25: NTM Thu | AR25: HD Vy | AS25: NT Hà | AT25: PTN Trâm | AU25: NTT Thủy B | AV25: NH Anh | AZ25: =IF(AZ24<>"",VLOOKUP(AZ24,#REF!,'[1]TKB SÁNG'!#REF!,0),"")
B26: 2 | C26: 13h50-14h35 | D26: NGỮ VĂN | E26: TIN HỌC | F26: GDTC | G26: NT-HOẠ | H26: GDCD | I26: KHTN | J26: HĐTN-HN | K26: GDCD | L26: GD ĐP | M26: TOÁN | N26: GD ĐP | O26: HĐTN-HN | P26: LSĐL-Đ | Q26: NT-NHẠC | R26: GDTC | S26: TIẾNG ANH | T26: TIẾNG PHÁP | U26: CÔNG NGHỆ | V26: TIẾNG NHẬT | W26: TIN HỌC | X26: NT-HOẠ | Y26: TIẾNG ANH | Z26: NGỮ VĂN | AA26: NT-HOẠ | AB26: GDTC | AC26: NGỮ VĂN | AD26: ĐỌC SÁCH | AE26: ĐỌC SÁCH | AF26: ĐỌC SÁCH | AG26: LSĐL-S | AH26: GDCD | AI26: TIẾNG ANH | AJ26: LSĐL-Đ | AK26: KHTN-H | AL26: LSĐL-Đ | AM26: KHTN-L | AN26: CÔNG NGHỆ | AO26: LSĐL-S | AP26: TIẾNG ANH | AQ26: TOÁN | AR26: NT-NHẠC | AS26: KHTN-H | AT26: LSĐL-S | AU26: TOÁN | AV26: KHTN-S | AW26: TIẾNG PHÁP
D27: BTT Hương | E27: NTT Thủy A | F27: KV Dũng | G27: PTT Linh | H27: TT Thùy | I27: NTN Liên | J27: NTT An | K27: NTB Châu | L27: TTN Anh | M27: NT Kỳ | N27: NTT Hà | O27: PTV Anh | P27: ĐT Hà | Q27: NTP Lan N | R27: NĐ Duy | S27: NPH Anh | T27: CK Đức | U27: NTH Thúy | W27: PH Giang | X27: TTK Ly | Y27: BL Phương | Z27: ĐT Thủy | AA27: LN Anh | AB27: NTP Lan TD | AC27: VB Hạnh | AD27: NT Hà | AE27: NT Lan | AF27: HD Vy | AG27: VTT Nhàn | AH27: BTM Hương | AI27: BP Linh | AJ27: NT Tùng | AK27: NTT Huyền | AL27: ĐD Định | AM27: PTM Ngân | AN27: TT Quyên | AO27: LT Thoa | AP27: HTM Hương | AQ27: NTM Thu | AR27: NTH Ngọc | AS27: NT Anh | AT27: PTN Hằng | AU27: NTT Thủy B | AV27: PTN Trâm | AW27: NTT Huyền P | AZ27: =IF(AZ26<>"",VLOOKUP(AZ26,#REF!,'[1]TKB SÁNG'!#REF!,0),"")
B28: 3 | C28: 14h40-15h25 | D28: GD ĐP | E28: TIẾNG ANH | F28: NGỮ VĂN | G28: KHTN | H28: NT-HOẠ | I28: ĐỌC SÁCH | J28: GDCD | K28: NT-NHẠC | L28: CÔNG NGHỆ | M28: TIN HỌC | N28: KHTN | O28: TIN HỌC | P28: NT-NHẠC | Q28: GD ĐP | R28: ĐỌC SÁCH | S28: LSĐL-Đ | T28: TIẾNG PHÁP | U28: P.triển NL số | V28: GDCD | W28: TIẾNG NHẬT | X28: KHTN-S | Y28: NT-HOẠ | Z28: NT-HOẠ | AA28: P.triển NL số | AB28: P.triển NL số | AC28: P.triển NL số | AD28: KHTN-H | AE28: TIN HỌC | AF28: NGỮ VĂN | AG28: HĐTN-HN | AH28: CÔNG NGHỆ | AI28: LSĐL-Đ | AJ28: GDTC | AK28: TIẾNG ANH | AL28: CÔNG NGHỆ | AM28: NGỮ VĂN | AN28: KHTN-S | AO28: TOÁN | AP28: TIẾNG ANH | AQ28: KHTN-L | AR28: LSĐL-S | AS28: LSĐL-S | AT28: KHTN-H | AU28: KHTN-S | AV28: TIẾNG ANH | AW28: TIẾNG PHÁP
D29: NTT Hà | E29: NPH Anh | F29: PTV Anh | G29: NTN Liên | H29: PTT Linh | I29: NH Anh | J29: NTB Châu | K29: NTP Lan N | L29: NTM Thu | M29: NTT Thủy B | N29: LT Loan | O29: PH Giang | P29: NT Lan | Q29: TTN Anh | R29: NH Vi | S29: ĐT Hà | T29: CK Đức | V29: VB Hạnh | X29: HTH Quỳnh | Y29: LN Anh | Z29: TTK Ly | AD29: TT Loan | AE29: LP Thảo | AF29: NTT An | AG29: NT Kỳ | AH29: TVN Sơn | AI29: NT Tùng | AJ29: NTP Lan TD | AK29: HD Vy | AL29: TT Quyên | AM29: TT Thùy | AN29: TT Hương | AO29: PQ Linh | AP29: HTM Hương | AQ29: PTM Ngân | AR29: LT Thoa | AS29: PTN Hằng | AT29: NTT Huyền | AU29: PTN Trâm | AV29: BL Phương | AW29: NTT Huyền P | AZ29: =IF(AZ28<>"",VLOOKUP(AZ28,#REF!,'[1]TKB SÁNG'!#REF!,0),"")
B30: 4 | C30: 15h45-16h30 | D30: NT-NHẠC | E30: KHTN | F30: GD ĐP | H30: ĐỌC SÁCH | K30: KHTN | M30: GDCD | N30: HĐTN-HN | AJ30: TOÁN | AK30: TIẾNG ANH | AL30: TOÁN | AM30: NGỮ VĂN | AN30: NT-NHẠC | AO30: TOÁN | AP30: TIN HỌC | AQ30: LSĐL-Đ | AR30: GDTC | AS30: GDTC | AT30: TOÁN | AU30: NT-HOẠ | AV30: LSĐL-Đ | AW30: TIẾNG PHÁP
D31: NTP Lan N | E31: HTH Quỳnh | F31: NTT Hà | H31: NH Anh | K31: TT Loan | M31: NTB Châu | N31: LT Loan | AJ31: NT Hà | AK31: HD Vy | AL31: NTT Thủy A | AM31: TT Thùy | AN31: NTH Ngọc | AO31: PQ Linh | AP31: NTT Thủy B | AQ31: ĐD Định | AR31: NĐ Duy | AS31: NTT Hương | AT31: PH Giang | AU31: TTK Ly | AV31: NT Tùng | AW31: NTT Huyền P | AZ31: =IF(AZ30<>"",VLOOKUP(AZ30,#REF!,'[1]TKB SÁNG'!#REF!,0),"")
B32: 5 | C32: 16h35-17h20 | AJ32: TOÁN | AK32: GDTC | AL32: TOÁN | AM32: CÔNG NGHỆ | AN32: LSĐL-S | AO32: LSĐL-Đ | AP32: GDTC | AQ32: GDTC | AR32: NT-HOẠ | AS32: LSĐL-Đ | AT32: NT-HOẠ | AU32: GD ĐP | AV32: NT-NHẠC | AW32: HĐTN-HN
AJ33: NT Hà | AK33: NTP Lan TD | AL33: NTT Thủy A | AM33: NTM Thu | AN33: LT Thoa | AO33: ĐD Định | AP33: NĐ Duy | AQ33: NTT Hương | AR33: PTT Linh | AS33: NT Tùng | AT33: TTK Ly | AU33: ĐT Thủy | AV33: NTH Ngọc | AW33: NTT Huyền P
A34: NĂM | B34: 1 | C34: 13h00-13h45 | AJ34: TIẾNG ANH | AK34: NGỮ VĂN | AL34: TOÁN | AM34: GD ĐP | AN34: KHTN-H | AO34: TIẾNG ANH | AP34: NGỮ VĂN | AQ34: TOÁN | AR34: NGỮ VĂN | AS34: KHTN-S | AT34: KHTN-L | AU34: LSĐL-S | AV34: CÔNG NGHỆ
AJ35: NT Hải | AK35: PTT Thủy | AL35: NTT Thủy A | AM35: NTP Lan A | AN35: NS Tùng | AO35: VNT Trang | AP35: NH Lê | AQ35: NTM Thu | AR35: LH Lan | AS35: TT Hương | AT35: NTT Đông | AU35: VTT Nhàn | AV35: VT Hà
B36: 2 | C36: 13h50-14h35 | D36: TIẾNG ANH | E36: HĐTN-HN | F36: LSĐL-Đ | G36: TOÁN | H36: GD ĐP | I36: HĐTN-HN | J36: TIN HỌC | K36: NT-HỌA | L36: CÔNG NGHỆ | M36: NT-NHẠC | N36: NGỮ VĂN | O36: KHTN | P36: ĐỌC SÁCH | Q36: LSĐL-Đ | R36: GDCD | S36: TOÁN | T36: TIẾNG ANH | U36: NGỮ VĂN | V36: ĐỌC SÁCH | W36: GDCD | X36: CÔNG NGHỆ | Y36: NGỮ VĂN | Z36: KHTN-H | AA36: NGỮ VĂN | AB36: GDCD | AC36: KHTN-H | AD36: NGỮ VĂN | AE36: KHTN-H | AF36: LSĐL-S | AG36: NGỮ VĂN | AH36: TIN HỌC | AI36: GD ĐP | AJ36: TIẾNG ANH | AK36: NGỮ VĂN | AL36: LSĐL-S | AM36: KHTN-H | AN36: GDTC | AO36: GDTC | AP36: KHTN-H | AQ36: TOÁN | AR36: KHTN-L | AS36: KHTN-L | AT36: TIẾNG ANH | AU36: GDTC | AV36: TOÁN | AW36: TIẾNG ANH
D37: VNT Trang | E37: NP Thanh | F37: VH Giang | G37: NK Linh | H37: TTN Anh | I37: ĐH Lan | J37: NTT Thủy A | K37: PTT Linh | L37: TTT Hương | M37: NT Lan | N37: NTT Hà | O37: NTN Liên | P37: NTT Thủy B | Q37: LTA Nguyệt | R37: NTT Hạnh | S37: NTB Vân | T37: BP Linh | U37: BTT Hương | V37: NMT Linh | W37: BTM Hương | X37: NTH Thúy | Y37: NT Nga | Z37: NS Tùng | AA37: NTP Lan A | AB37: TH Nhung | AC37: TT Hồng | AD37: NTB Châu | AE37: NH Anh | AF37: VTT Nhàn | AG37: NH Lê | AH37: LP Thảo | AI37: LH Lan | AJ37: NT Hải | AK37: PTT Thủy | AL37: NT Hảo | AM37: PT Mai | AN37: DT Dung | AO37: NTT Hương | AP37: NTT Huyền | AQ37: NTM Thu | AR37: NTT Đông | AS37: PTM Ngân | AT37: NTH Quyên | AU37: NTP Lan TD | AV37: VT Hà | AW37: NTH Mai | AZ37: =IF(AZ36<>"",VLOOKUP(AZ36,#REF!,'[1]TKB SÁNG'!#REF!,0),"")
B38: 3 | C38: 14h40-15h25 | D38: NGỮ VĂN | E38: NGỮ VĂN | F38: NT-NHẠC | G38: TIN HỌC | H38: GD ĐP | I38: GDCD | J38: TOÁN | K38: LSĐL-Đ | L38: GDCD | M38: GD ĐP | N38: LSĐL-Đ | O38: KHTN | P38: GD ĐP | Q38: KHTN | R38: TIẾNG ANH | S38: CÔNG NGHỆ | T38: NT-HOẠ | U38: PTKN GIAO TIẾP | V38: TIẾNG NHẬT | W38: TIẾNG NHẬT | X38: PTKN GIAO TIẾP | Y38: PTKN GIAO TIẾP | Z38: PTTD TOÁN HỌC | AA38: PTTD TOÁN HỌC | AB38: PTTD TOÁN HỌC | AC38: PTKN GIAO TIẾP | AD38: PTKN GIAO TIẾP | AE38: PTKN GIAO TIẾP | AF38: PTKN GIAO TIẾP | AG38: PTKN GIAO TIẾP | AH38: PTKN GIAO TIẾP | AI38: TOÁN PHÁP | AJ38: KHTN-H | AK38: KHTN-H | AL38: GDTC | AM38: NT-NHẠC | AN38: TIẾNG ANH | AO38: GDCD | AP38: LSĐL-S | AQ38: CÔNG NGHỆ | AR38: TIN HỌC | AS38: NGỮ VĂN | AT38: GDTC | AU38: CÔNG NGHỆ | AV38: KHTN-HÓA | AW38: TIẾNG ANH
D39: BTT Hương | E39: NP Thanh | F39: NT Lan | G39: NTT Thủy A | H39: BP Linh | I39: NTB Châu | J39: TTT Hương | K39: VH Giang | L39: NTT Hạnh | M39: TH Nhung | N39: LTA Nguyệt | O39: NTN Liên | P39: TTN Anh | Q39: TT Hương | R39: NTH Quyên | S39: NTB Vân | T39: PTT Linh | AI39: NK Linh | AJ39: PT Mai | AK39: NTT Huyền | AL39: NTP Lan TD | AM39: NMT Linh | AN39: VNT Trang | AO39: BTM Hương | AP39: NT Hảo | AQ39: NTM Thu | AR39: NTT Thủy B | AS39: PTT Thủy | AT39: DT Dung | AU39: VT Hà | AV39: NH Anh | AW39: NTH Mai | AZ39: =IF(AZ38<>"",VLOOKUP(AZ38,#REF!,'[1]TKB SÁNG'!#REF!,0),"")
B40: 4 | C40: 15h45-16h30 | U40: PTKN GIAO TIẾP | V40: TIẾNG NHẬT | W40: TIẾNG NHẬT | X40: PTKN GIAO TIẾP | Y40: PTKN GIAO TIẾP | Z40: PTTD TOÁN HỌC | AA40: PTTD TOÁN HỌC | AB40: PTTD TOÁN HỌC | AC40: PTKN GIAO TIẾP | AD40: PTKN GIAO TIẾP | AE40: PTKN GIAO TIẾP | AF40: PTKN GIAO TIẾP | AG40: PTKN GIAO TIẾP | AH40: PTKN GIAO TIẾP | AI40: TIẾNG ANH | AJ40: PTKN GIAO TIẾP | AK40: PTKN GIAO TIẾP | AL40: PTKN GIAO TIẾP | AM40: PTKN GIAO TIẾP | AN40: PTKN GIAO TIẾP | AO40: PTTD TOÁN HỌC | AP40: PTTD TOÁN HỌC | AQ40: PTTD TOÁN HỌC | AR40: PTKN GIAO TIẾP | AS40: PTKN GIAO TIẾP | AT40: HĐTN-HN | AU40: HĐTN-HN | AV40: HĐTN-HN
AI41: BP Linh | AT41: NTT Hạnh | AU41: NT Nga | AV41: CTM Tâm
...

Sheet GV
A1: THỜI KHÓA BIỂU CA SÁNG | K1: THỜI KHÓA BIỂU CA CHIỀU
A3: Nhập GV: | B3: NTT Thủy A | K3: Nhập GV: | L3: PTV Anh
A5: Tiết | B5: Thời gian | C5: THỨ 2 | D5: THỨ 3 | E5: THỨ 4 | F5: THỨ 5 | G5: THỨ 6 | H5: THỨ 7 | K5: Tiết | L5: Thời gian | M5: THỨ 2 | N5: THỨ 3 | O5: THỨ 4 | P5: THỨ 5 | Q5: THỨ 6 | R5: THỨ 7
A6: 1 | B6: 7h30-8h15 | C6: =_xlfn.IFNA(INDEX('TKB SÁNG'!$C$3:$AW$3,1,MATCH($B$3,'TKB SÁNG'!$C5:$AW5,0)),"-") -> - | D6: =_xlfn.IFNA(INDEX('TKB SÁNG'!$C$3:$AW$3,1,MATCH($B$3,'TKB SÁNG'!$C15:$AW15,0)),"-") -> 6A1 | E6: =_xlfn.IFNA(INDEX('TKB SÁNG'!$C$3:$AW$3,1,MATCH($B$3,'TKB SÁNG'!$C25:$AW25,0)),"-") -> - | F6: =_xlfn.IFNA(INDEX('TKB SÁNG'!$C$3:$AW$3,1,MATCH($B$3,'TKB SÁNG'!$C35:$AW35,0)),"-") -> - | G6: =_xlfn.IFNA(INDEX('TKB SÁNG'!$C$3:$AW$3,1,MATCH($B$3,'TKB SÁNG'!$C45:$AW45,0)),"-") -> - | H6: =_xlfn.IFNA(INDEX('TKB SÁNG'!$C$3:$AW$3,1,MATCH($B$3,'TKB SÁNG'!$C55:$AW55,0)),"-") -> - | K6: 1 | L6: 13h00-13h45 | M6: =_xlfn.IFNA(INDEX('TKB CHIỀU'!$C$3:$AW$3,1,MATCH($L$3,'TKB CHIỀU'!$C5:$AW5,0)),"-") -> - | N6: =_xlfn.IFNA(INDEX('TKB CHIỀU'!$C$3:$AW$3,1,MATCH($L$3,'TKB CHIỀU'!$C15:$AW15,0)),"-") -> - | O6: =_xlfn.IFNA(INDEX('TKB CHIỀU'!$C$3:$AW$3,1,MATCH($L$3,'TKB CHIỀU'!$C25:$AW25,0)),"-") -> - | P6: =_xlfn.IFNA(INDEX('TKB CHIỀU'!$C$3:$AW$3,1,MATCH($L$3,'TKB CHIỀU'!$C35:$AW35,0)),"-") -> - | Q6: =_xlfn.IFNA(INDEX('TKB CHIỀU'!$C$3:$AW$3,1,MATCH($L$3,'TKB CHIỀU'!$C45:$AW45,0)),"-") -> - | R6: =_xlfn.IFNA(INDEX('TKB CHIỀU'!$C$3:$AW$3,1,MATCH($L$3,'TKB CHIỀU'!$C55:$AW55,0)),"-") -> -
A8: 2 | B8: 8h20-9h05 | C8: =_xlfn.IFNA(INDEX('TKB SÁNG'!$C$3:$AW$3,1,MATCH($B$3,'TKB SÁNG'!$C7:$AW7,0)),"-") -> - | D8: =_xlfn.IFNA(INDEX('TKB SÁNG'!$C$3:$AW$3,1,MATCH($B$3,'TKB SÁNG'!$C17:$AW17,0)),"-") -> 6A8 | E8: =_xlfn.IFNA(INDEX('TKB SÁNG'!$C$3:$AW$3,1,MATCH($B$3,'TKB SÁNG'!$C27:$AW27,0)),"-") -> - | F8: =_xlfn.IFNA(INDEX('TKB SÁNG'!$C$3:$AW$3,1,MATCH($B$3,'TKB SÁNG'!$C37:$AW37,0)),"-") -> - | G8: =_xlfn.IFNA(INDEX('TKB SÁNG'!$C$3:$AW$3,1,MATCH($B$3,'TKB SÁNG'!$C47:$AW47,0)),"-") -> 6A1 | H8: =_xlfn.IFNA(INDEX('TKB SÁNG'!$C$3:$AW$3,1,MATCH($B$3,'TKB SÁNG'!$C57:$AW57,0)),"-") -> - | K8: 2 | L8: 13h50-14h35 | M8: =_xlfn.IFNA(INDEX('TKB CHIỀU'!$C$3:$AW$3,1,MATCH($L$3,'TKB CHIỀU'!$C7:$AW7,0)),"-") -> - | N8: =_xlfn.IFNA(INDEX('TKB CHIỀU'!$C$3:$AW$3,1,MATCH($L$3,'TKB CHIỀU'!$C17:$AW17,0)),"-") -> - | O8: =_xlfn.IFNA(INDEX('TKB CHIỀU'!$C$3:$AW$3,1,MATCH($L$3,'TKB CHIỀU'!$C27:$AW27,0)),"-") -> 6A11 | P8: =_xlfn.IFNA(INDEX('TKB CHIỀU'!$C$3:$AW$3,1,MATCH($L$3,'TKB CHIỀU'!$C37:$AW37,0)),"-") -> - | Q8: =_xlfn.IFNA(INDEX('TKB CHIỀU'!$C$3:$AW$3,1,MATCH($L$3,'TKB CHIỀU'!$C47:$AW47,0)),"-") -> 6A11 | R8: =_xlfn.IFNA(INDEX('TKB CHIỀU'!$C$3:$AW$3,1,MATCH($L$3,'TKB CHIỀU'!$C57:$AW57,0)),"-") -> -
A10: 3 | B10: 9h25-10h10 | C10: =_xlfn.IFNA(INDEX('TKB SÁNG'!$C$3:$AW$3,1,MATCH($B$3,'TKB SÁNG'!$C9:$AW9,0)),"-") -> - | D10: =_xlfn.IFNA(INDEX('TKB SÁNG'!$C$3:$AW$3,1,MATCH($B$3,'TKB SÁNG'!$C19:$AW19,0)),"-") -> - | E10: =_xlfn.IFNA(INDEX('TKB SÁNG'!$C$3:$AW$3,1,MATCH($B$3,'TKB SÁNG'!$C29:$AW29,0)),"-") -> - | F10: =_xlfn.IFNA(INDEX('TKB SÁNG'!$C$3:$AW$3,1,MATCH($B$3,'TKB SÁNG'!$C39:$AW39,0)),"-") -> - | G10: =_xlfn.IFNA(INDEX('TKB SÁNG'!$C$3:$AW$3,1,MATCH($B$3,'TKB SÁNG'!$C49:$AW49,0)),"-") -> 6A1 | H10: =_xlfn.IFNA(INDEX('TKB SÁNG'!$C$3:$AW$3,1,MATCH($B$3,'TKB SÁNG'!$C59:$AW59,0)),"-") -> - | K10: 3 | L10: 14h40-15h25 | M10: =_xlfn.IFNA(INDEX('TKB CHIỀU'!$C$3:$AW$3,1,MATCH($L$3,'TKB CHIỀU'!$C9:$AW9,0)),"-") -> - | N10: =_xlfn.IFNA(INDEX('TKB CHIỀU'!$C$3:$AW$3,1,MATCH($L$3,'TKB CHIỀU'!$C19:$AW19,0)),"-") -> - | O10: =_xlfn.IFNA(INDEX('TKB CHIỀU'!$C$3:$AW$3,1,MATCH($L$3,'TKB CHIỀU'!$C29:$AW29,0)),"-") -> 6A2 | P10: =_xlfn.IFNA(INDEX('TKB CHIỀU'!$C$3:$AW$3,1,MATCH($L$3,'TKB CHIỀU'!$C39:$AW39,0)),"-") -> - | Q10: =_xlfn.IFNA(INDEX('TKB CHIỀU'!$C$3:$AW$3,1,MATCH($L$3,'TKB CHIỀU'!$C49:$AW49,0)),"-") -> - | R10: =_xlfn.IFNA(INDEX('TKB CHIỀU'!$C$3:$AW$3,1,MATCH($L$3,'TKB CHIỀU'!$C59:$AW59,0)),"-") -> -
A12: 4 | B12: 10h15-11h00 | C12: =_xlfn.IFNA(INDEX('TKB SÁNG'!$C$3:$AW$3,1,MATCH($B$3,'TKB SÁNG'!$C11:$AW11,0)),"-") -> - | D12: =_xlfn.IFNA(INDEX('TKB SÁNG'!$C$3:$AW$3,1,MATCH($B$3,'TKB SÁNG'!$C21:$AW21,0)),"-") -> - | E12: =_xlfn.IFNA(INDEX('TKB SÁNG'!$C$3:$AW$3,1,MATCH($B$3,'TKB SÁNG'!$C31:$AW31,0)),"-") -> - | F12: =_xlfn.IFNA(INDEX('TKB SÁNG'!$C$3:$AW$3,1,MATCH($B$3,'TKB SÁNG'!$C41:$AW41,0)),"-") -> - | G12: =_xlfn.IFNA(INDEX('TKB SÁNG'!$C$3:$AW$3,1,MATCH($B$3,'TKB SÁNG'!$C51:$AW51,0)),"-") -> - | H12: =_xlfn.IFNA(INDEX('TKB SÁNG'!$C$3:$AW$3,1,MATCH($B$3,'TKB SÁNG'!$C61:$AW61,0)),"-") -> - | K12: 4 | L12: 15h45-16h30 | M12: =_xlfn.IFNA(INDEX('TKB CHIỀU'!$C$3:$AW$3,1,MATCH($L$3,'TKB CHIỀU'!$C11:$AW11,0)),"-") -> - | N12: =_xlfn.IFNA(INDEX('TKB CHIỀU'!$C$3:$AW$3,1,MATCH($L$3,'TKB CHIỀU'!$C21:$AW21,0)),"-") -> - | O12: =_xlfn.IFNA(INDEX('TKB CHIỀU'!$C$3:$AW$3,1,MATCH($L$3,'TKB CHIỀU'!$C31:$AW31,0)),"-") -> - | P12: =_xlfn.IFNA(INDEX('TKB CHIỀU'!$C$3:$AW$3,1,MATCH($L$3,'TKB CHIỀU'!$C41:$AW41,0)),"-") -> - | Q12: =_xlfn.IFNA(INDEX('TKB CHIỀU'!$C$3:$AW$3,1,MATCH($L$3,'TKB CHIỀU'!$C51:$AW51,0)),"-") -> 6A11 | R12: =_xlfn.IFNA(INDEX('TKB CHIỀU'!$C$3:$AW$3,1,MATCH($L$3,'TKB CHIỀU'!$C61:$AW61,0)),"-") -> -
A14: 5 | B14: 11h05-11h50 | C14: =_xlfn.IFNA(INDEX('TKB SÁNG'!$C$3:$AW$3,1,MATCH($B$3,'TKB SÁNG'!$C13:$AW13,0)),"-") -> - | D14: =_xlfn.IFNA(INDEX('TKB SÁNG'!$C$3:$AW$3,1,MATCH($B$3,'TKB SÁNG'!$C23:$AW23,0)),"-") -> - | E14: =_xlfn.IFNA(INDEX('TKB SÁNG'!$C$3:$AW$3,1,MATCH($B$3,'TKB SÁNG'!$C33:$AW33,0)),"-") -> - | F14: =_xlfn.IFNA(INDEX('TKB SÁNG'!$C$3:$AW$3,1,MATCH($B$3,'TKB SÁNG'!$C43:$AW43,0)),"-") -> - | G14: =_xlfn.IFNA(INDEX('TKB SÁNG'!$C$3:$AW$3,1,MATCH($B$3,'TKB SÁNG'!$C53:$AW53,0)),"-") -> - | H14: =_xlfn.IFNA(INDEX('TKB SÁNG'!$C$3:$AW$3,1,MATCH($B$3,'TKB SÁNG'!$C63:$AW63,0)),"-") -> - | K14: 5 | L14: 16h35-17h20 | M14: =_xlfn.IFNA(INDEX('TKB CHIỀU'!$C$3:$AW$3,1,MATCH($L$3,'TKB CHIỀU'!$C13:$AW13,0)),"-") -> - | N14: =_xlfn.IFNA(INDEX('TKB CHIỀU'!$C$3:$AW$3,1,MATCH($L$3,'TKB CHIỀU'!$C23:$AW23,0)),"-") -> - | O14: =_xlfn.IFNA(INDEX('TKB CHIỀU'!$C$3:$AW$3,1,MATCH($L$3,'TKB CHIỀU'!$C33:$AW33,0)),"-") -> - | P14: =_xlfn.IFNA(INDEX('TKB CHIỀU'!$C$3:$AW$3,1,MATCH($L$3,'TKB CHIỀU'!$C43:$AW43,0)),"-") -> - | Q14: =_xlfn.IFNA(INDEX('TKB CHIỀU'!$C$3:$AW$3,1,MATCH($L$3,'TKB CHIỀU'!$C53:$AW53,0)),"-") -> - | R14: =_xlfn.IFNA(INDEX('TKB CHIỀU'!$C$3:$AW$3,1,MATCH($L$3,'TKB CHIỀU'!$C63:$AW63,0)),"-") -> -

Sheet Các Lớp
A1: TRƯỜNG THCS GIẢNG VÕ
A2: THỜI KHÓA BIỂU BUỔI SÁNG
B4: GVCN | F4: LỚP | G4: 6F
A6: TIẾT | B6: Thứ 2 | C6: Thứ 3 | D6: Thứ 4 | E6: Thứ 5 | F6: Thứ 6 | G6: Thứ 7
A7: 1 | B7: =HLOOKUP($G$4,'TKB SÁNG'!$D$3:$AW$63,I7,0) -> CHÀO CỜ | C7: =HLOOKUP($G$4,'TKB SÁNG'!$D$3:$AW$63,J7,0) -> TIẾNG ANH | D7: =HLOOKUP($G$4,'TKB SÁNG'!$D$3:$AW$63,K7,0) -> TIẾNG ANH | E7: =HLOOKUP($G$4,'TKB SÁNG'!$D$3:$AW$63,L7,0) -> GDTC | F7: =HLOOKUP($G$4,'TKB SÁNG'!$D$3:$AW$63,M7,0) -> HĐTN-HN | G7: =HLOOKUP($G$4,'TKB SÁNG'!$D$3:$AW$63,N7,0) -> 0 | I7: 2 | J7: 12 | K7: 22 | L7: 32 | M7: 42 | N7: 52
A8: 2 | B8: =HLOOKUP($G$4,'TKB SÁNG'!$D$3:$AW$63,I8,0) -> NT-HOẠ | C8: =HLOOKUP($G$4,'TKB SÁNG'!$D$3:$AW$63,J8,0) -> GDTC | D8: =HLOOKUP($G$4,'TKB SÁNG'!$D$3:$AW$63,K8,0) -> KHTN | E8: =HLOOKUP($G$4,'TKB SÁNG'!$D$3:$AW$63,L8,0) -> LSĐL-Đ | F8: =HLOOKUP($G$4,'TKB SÁNG'!$D$3:$AW$63,M8,0) -> TOÁN | G8: =HLOOKUP($G$4,'TKB SÁNG'!$D$3:$AW$63,N8,0) -> 0 | I8: 4 | J8: 14 | K8: 24 | L8: 34 | M8: 44 | N8: 54
A9: 3 | B9: =HLOOKUP($G$4,'TKB SÁNG'!$D$3:$AW$63,I9,0) -> KHTN | C9: =HLOOKUP($G$4,'TKB SÁNG'!$D$3:$AW$63,J9,0) -> NGỮ VĂN | D9: =HLOOKUP($G$4,'TKB SÁNG'!$D$3:$AW$63,K9,0) -> KHTN | E9: =HLOOKUP($G$4,'TKB SÁNG'!$D$3:$AW$63,L9,0) -> PTTD TOÁN HỌC | F9: =HLOOKUP($G$4,'TKB SÁNG'!$D$3:$AW$63,M9,0) -> TOÁN | G9: =HLOOKUP($G$4,'TKB SÁNG'!$D$3:$AW$63,N9,0) -> 0 | I9: 6 | J9: 16 | K9: 26 | L9: 36 | M9: 46 | N9: 56
A10: 4 | B10: =HLOOKUP($G$4,'TKB SÁNG'!$D$3:$AW$63,I10,0) -> LSĐL-S | C10: =HLOOKUP($G$4,'TKB SÁNG'!$D$3:$AW$63,J10,0) -> NGỮ VĂN | D10: =HLOOKUP($G$4,'TKB SÁNG'!$D$3:$AW$63,K10,0) -> TIN HỌC | E10: =HLOOKUP($G$4,'TKB SÁNG'!$D$3:$AW$63,L10,0) -> PTTD TOÁN HỌC | F10: =HLOOKUP($G$4,'TKB SÁNG'!$D$3:$AW$63,M10,0) -> NGỮ VĂN | G10: =HLOOKUP($G$4,'TKB SÁNG'!$D$3:$AW$63,N10,0) -> 0 | I10: 8 | J10: 18 | K10: 28 | L10: 38 | M10: 48 | N10: 58
A11: 5 | B11: =HLOOKUP($G$4,'TKB SÁNG'!$D$3:$AW$63,I11,0) -> 0 | C11: =HLOOKUP($G$4,'TKB SÁNG'!$D$3:$AW$63,J11,0) -> 0 | D11: =HLOOKUP($G$4,'TKB SÁNG'!$D$3:$AW$63,K11,0) -> 0 | E11: =HLOOKUP($G$4,'TKB SÁNG'!$D$3:$AW$63,L11,0) -> 0 | F11: =HLOOKUP($G$4,'TKB SÁNG'!$D$3:$AW$63,M11,0) -> 0 | G11: =HLOOKUP($G$4,'TKB SÁNG'!$D$3:$AW$63,N11,0) -> 0 | I11: 10 | J11: 20 | K11: 30 | L11: 40 | M11: 50 | N11: 60
A16: TRƯỜNG THCS GIẢNG VÕ
A18: THỜI KHÓA BIỂU BUỔI CHIỀU
B20: GVCN | F20: LỚP | G20: 6F
A22: TIẾT | B22: Thứ 2 | C22: Thứ 3 | D22: Thứ 4 | E22: Thứ 5 | F22: Thứ 6 | G22: Thứ 7
A23: 1 | B23: =HLOOKUP($G$20,'TKB CHIỀU'!$D$3:$AW$63,I23,0) -> 0 | C23: =HLOOKUP($G$20,'TKB CHIỀU'!$D$3:$AW$63,J23,0) -> 0 | D23: =HLOOKUP($G$20,'TKB CHIỀU'!$D$3:$AW$63,K23,0) -> 0 | E23: =HLOOKUP($G$20,'TKB CHIỀU'!$D$3:$AW$63,L23,0) -> 0 | F23: =HLOOKUP($G$20,'TKB CHIỀU'!$D$3:$AW$63,M23,0) -> 0 | G23: =HLOOKUP($G$20,'TKB CHIỀU'!$D$3:$AW$63,N23,0) -> 0 | I23: 2 | J23: 12 | K23: 22 | L23: 32 | M23: 42 | N23: 52
A24: 2 | B24: =HLOOKUP($G$20,'TKB CHIỀU'!$D$3:$AW$63,I24,0) -> CÔNG NGHỆ | C24: =HLOOKUP($G$20,'TKB CHIỀU'!$D$3:$AW$63,J24,0) -> LSĐL-S | D24: =HLOOKUP($G$20,'TKB CHIỀU'!$D$3:$AW$63,K24,0) -> NGỮ VĂN | E24: =HLOOKUP($G$20,'TKB CHIỀU'!$D$3:$AW$63,L24,0) -> TIẾNG ANH | F24: =HLOOKUP($G$20,'TKB CHIỀU'!$D$3:$AW$63,M24,0) -> KHTN | G24: =HLOOKUP($G$20,'TKB CHIỀU'!$D$3:$AW$63,N24,0) -> 0 | I24: 4 | J24: 14 | K24: 24 | L24: 34 | M24: 44 | N24: 54
A25: 3 | B25: =HLOOKUP($G$20,'TKB CHIỀU'!$D$3:$AW$63,I25,0) -> TOÁN | C25: =HLOOKUP($G$20,'TKB CHIỀU'!$D$3:$AW$63,J25,0) -> P.triển NL số | D25: =HLOOKUP($G$20,'TKB CHIỀU'!$D$3:$AW$63,K25,0) -> GD ĐP | E25: =HLOOKUP($G$20,'TKB CHIỀU'!$D$3:$AW$63,L25,0) -> NGỮ VĂN | F25: =HLOOKUP($G$20,'TKB CHIỀU'!$D$3:$AW$63,M25,0) -> TOÁN | G25: =HLOOKUP($G$20,'TKB CHIỀU'!$D$3:$AW$63,N25,0) -> 0 | I25: 6 | J25: 16 | K25: 26 | L25: 36 | M25: 46 | N25: 56
A26: 4 | B26: =HLOOKUP($G$20,'TKB CHIỀU'!$D$3:$AW$63,I26,0) -> GDCD | C26: =HLOOKUP($G$20,'TKB CHIỀU'!$D$3:$AW$63,J26,0) -> 0 | D26: =HLOOKUP($G$20,'TKB CHIỀU'!$D$3:$AW$63,K26,0) -> NT-NHẠC | E26: =HLOOKUP($G$20,'TKB CHIỀU'!$D$3:$AW$63,L26,0) -> 0 | F26: =HLOOKUP($G$20,'TKB CHIỀU'!$D$3:$AW$63,M26,0) -> SHL | G26: =HLOOKUP($G$20,'TKB CHIỀU'!$D$3:$AW$63,N26,0) -> 0 | I26: 8 | J26: 18 | K26: 28 | L26: 38 | M26: 48 | N26: 58
A27: 5 | B27: =HLOOKUP($G$20,'TKB CHIỀU'!$D$3:$AW$63,I27,0) -> 0 | C27: =HLOOKUP($G$20,'TKB CHIỀU'!$D$3:$AW$63,J27,0) -> 0 | D27: =HLOOKUP($G$20,'TKB CHIỀU'!$D$3:$AW$63,K27,0) -> 0 | E27: =HLOOKUP($G$20,'TKB CHIỀU'!$D$3:$AW$63,L27,0) -> 0 | F27: =HLOOKUP($G$20,'TKB CHIỀU'!$D$3:$AW$63,M27,0) -> 0 | G27: =HLOOKUP($G$20,'TKB CHIỀU'!$D$3:$AW$63,N27,0) -> 0 | I27: 10 | J27: 20 | K27: 30 | L27: 40 | M27: 50 | N27: 60
